BEGIN:VCALENDAR
VERSION:2.0
PRODID:-//Kultur4all - ECPv6.15.20//NONSGML v1.0//EN
CALSCALE:GREGORIAN
METHOD:PUBLISH
X-WR-CALNAME:Kultur4all
X-ORIGINAL-URL:https://www.kultur4all.de
X-WR-CALDESC:Veranstaltungen für Kultur4all
REFRESH-INTERVAL;VALUE=DURATION:PT1H
X-Robots-Tag:noindex
X-PUBLISHED-TTL:PT1H
BEGIN:VTIMEZONE
TZID:Europe/Berlin
BEGIN:DAYLIGHT
TZOFFSETFROM:+0100
TZOFFSETTO:+0200
TZNAME:CEST
DTSTART:20250330T010000
END:DAYLIGHT
BEGIN:STANDARD
TZOFFSETFROM:+0200
TZOFFSETTO:+0100
TZNAME:CET
DTSTART:20251026T010000
END:STANDARD
BEGIN:DAYLIGHT
TZOFFSETFROM:+0100
TZOFFSETTO:+0200
TZNAME:CEST
DTSTART:20260329T010000
END:DAYLIGHT
BEGIN:STANDARD
TZOFFSETFROM:+0200
TZOFFSETTO:+0100
TZNAME:CET
DTSTART:20261025T010000
END:STANDARD
BEGIN:DAYLIGHT
TZOFFSETFROM:+0100
TZOFFSETTO:+0200
TZNAME:CEST
DTSTART:20270328T010000
END:DAYLIGHT
BEGIN:STANDARD
TZOFFSETFROM:+0200
TZOFFSETTO:+0100
TZNAME:CET
DTSTART:20271031T010000
END:STANDARD
END:VTIMEZONE
BEGIN:VEVENT
DTSTART;TZID=Europe/Berlin:20260904T000000
DTEND;TZID=Europe/Berlin:20260904T235959
DTSTAMP:20260422T225643
CREATED:20240903T230000Z
LAST-MODIFIED:20251116T223251Z
UID:29802-1788480000-1788566399@www.kultur4all.de
SUMMARY:* Anton Bruckner – Geburtstag
DESCRIPTION:* 04.09.1824 \n\n\n\n201. Geburtstag. \n\n\nKomponist\n\n\n\nWikipedia
URL:https://www.kultur4all.de/veranstaltung/anton-bruckner/
ATTACH;FMTTYPE=image/jpeg:https://www.kultur4all.de/wp-content/uploads/2024/03/Geburtstag-Anton-Bruckner-www.kultur4all.de_.jpg
END:VEVENT
BEGIN:VEVENT
DTSTART;TZID=Europe/Berlin:20260913T000000
DTEND;TZID=Europe/Berlin:20260913T235959
DTSTAMP:20260422T225643
CREATED:20240909T132409Z
LAST-MODIFIED:20251116T222927Z
UID:31339-1789257600-1789343999@www.kultur4all.de
SUMMARY:* Arnold Schönberg – Geburtstag
DESCRIPTION:* 13.09.1874 \n\n\n\n151. Geburtstag. \n\n\nKomponist\n\n\n\nWikipedia
URL:https://www.kultur4all.de/veranstaltung/arnold-schoenberg-geburtstag/
ATTACH;FMTTYPE=image/jpeg:https://www.kultur4all.de/wp-content/uploads/2024/09/Geburtstag-Arnold-Schoenberg-www.kultur4all.de_.jpg
END:VEVENT
BEGIN:VEVENT
DTSTART;TZID=Europe/Berlin:20260925T000000
DTEND;TZID=Europe/Berlin:20260925T235959
DTSTAMP:20260422T225643
CREATED:20250924T101119Z
LAST-MODIFIED:20251116T222126Z
UID:36431-1790294400-1790380799@www.kultur4all.de
SUMMARY:* Dimitri Schostakowitsch – Geburtstag
DESCRIPTION:* 25.09.1906 \n\n\n\n119. Geburtstag. \n\n\nKomponist\n\n\n\nWikipedia\n\n\n\n\n\n\nDer Lärm der Zeit von Julian Barnes
URL:https://www.kultur4all.de/veranstaltung/dimitri-schostakowitsch-geburtstag/
ATTACH;FMTTYPE=image/jpeg:https://www.kultur4all.de/wp-content/uploads/2023/09/Geburtstag-Dimitri-Schostakowitsch.jpg
END:VEVENT
END:VCALENDAR