BEGIN:VCALENDAR
VERSION:2.0
PRODID:-//Kultur4all - ECPv6.15.20//NONSGML v1.0//EN
CALSCALE:GREGORIAN
METHOD:PUBLISH
X-ORIGINAL-URL:https://www.kultur4all.de
X-WR-CALDESC:Veranstaltungen für Kultur4all
REFRESH-INTERVAL;VALUE=DURATION:PT1H
X-Robots-Tag:noindex
X-PUBLISHED-TTL:PT1H
BEGIN:VTIMEZONE
TZID:Europe/Berlin
BEGIN:DAYLIGHT
TZOFFSETFROM:+0100
TZOFFSETTO:+0200
TZNAME:CEST
DTSTART:20250330T010000
END:DAYLIGHT
BEGIN:STANDARD
TZOFFSETFROM:+0200
TZOFFSETTO:+0100
TZNAME:CET
DTSTART:20251026T010000
END:STANDARD
BEGIN:DAYLIGHT
TZOFFSETFROM:+0100
TZOFFSETTO:+0200
TZNAME:CEST
DTSTART:20260329T010000
END:DAYLIGHT
BEGIN:STANDARD
TZOFFSETFROM:+0200
TZOFFSETTO:+0100
TZNAME:CET
DTSTART:20261025T010000
END:STANDARD
BEGIN:DAYLIGHT
TZOFFSETFROM:+0100
TZOFFSETTO:+0200
TZNAME:CEST
DTSTART:20270328T010000
END:DAYLIGHT
BEGIN:STANDARD
TZOFFSETFROM:+0200
TZOFFSETTO:+0100
TZNAME:CET
DTSTART:20271031T010000
END:STANDARD
END:VTIMEZONE
BEGIN:VEVENT
DTSTART;TZID=Europe/Berlin:20260825T000000
DTEND;TZID=Europe/Berlin:20260825T235959
DTSTAMP:20260422T212224
CREATED:20250821T112301Z
LAST-MODIFIED:20251116T224009Z
UID:36011-1787616000-1787702399@www.kultur4all.de
SUMMARY:* Leonard Bernstein – Geburtstag
DESCRIPTION:* 25. August 1918 \n\n\n\n107. Geburtstag. \n\n\nKomponist\n\n\n\nWikipedia
URL:https://www.kultur4all.de/veranstaltung/leonard-bernstein-geburtstag/
ATTACH;FMTTYPE=image/jpeg:https://www.kultur4all.de/wp-content/uploads/2023/09/Geburtstag-Leonard-Bernstein-kultur4all.de_.jpg
END:VEVENT
END:VCALENDAR