BEGIN:VCALENDAR
VERSION:2.0
PRODID:-//Kultur4all - ECPv6.15.20//NONSGML v1.0//EN
CALSCALE:GREGORIAN
METHOD:PUBLISH
X-ORIGINAL-URL:https://www.kultur4all.de
X-WR-CALDESC:Veranstaltungen für Kultur4all
REFRESH-INTERVAL;VALUE=DURATION:PT1H
X-Robots-Tag:noindex
X-PUBLISHED-TTL:PT1H
BEGIN:VTIMEZONE
TZID:Europe/Berlin
BEGIN:DAYLIGHT
TZOFFSETFROM:+0100
TZOFFSETTO:+0200
TZNAME:CEST
DTSTART:20250330T010000
END:DAYLIGHT
BEGIN:STANDARD
TZOFFSETFROM:+0200
TZOFFSETTO:+0100
TZNAME:CET
DTSTART:20251026T010000
END:STANDARD
BEGIN:DAYLIGHT
TZOFFSETFROM:+0100
TZOFFSETTO:+0200
TZNAME:CEST
DTSTART:20260329T010000
END:DAYLIGHT
BEGIN:STANDARD
TZOFFSETFROM:+0200
TZOFFSETTO:+0100
TZNAME:CET
DTSTART:20261025T010000
END:STANDARD
BEGIN:DAYLIGHT
TZOFFSETFROM:+0100
TZOFFSETTO:+0200
TZNAME:CEST
DTSTART:20270328T010000
END:DAYLIGHT
BEGIN:STANDARD
TZOFFSETFROM:+0200
TZOFFSETTO:+0100
TZNAME:CET
DTSTART:20271031T010000
END:STANDARD
END:VTIMEZONE
BEGIN:VEVENT
DTSTART;TZID=Europe/Berlin:20260713T000000
DTEND;TZID=Europe/Berlin:20260713T235959
DTSTAMP:20260422T194122
CREATED:20250113T094615Z
LAST-MODIFIED:20251117T121402Z
UID:31337-1783900800-1783987199@www.kultur4all.de
SUMMARY:† Arnold Schönberg – Todestag
DESCRIPTION:† 13.07.1951 \n\n\n74. Todestag. \n\n\nKomponist\n\n\n\nWikipedia
URL:https://www.kultur4all.de/veranstaltung/arnold-schoenberg-todestag/
END:VEVENT
BEGIN:VEVENT
DTSTART;TZID=Europe/Berlin:20260718T000000
DTEND;TZID=Europe/Berlin:20260718T235959
DTSTAMP:20260422T194122
CREATED:20250718T054050Z
LAST-MODIFIED:20251116T225029Z
UID:35552-1784332800-1784419199@www.kultur4all.de
SUMMARY:* Georg Kreisler – Geburtstag
DESCRIPTION:* 18.07.1922 \n\n\n\n103. Geburtstag. \n\n\nKomponist\n\n\n\nWikipedia
URL:https://www.kultur4all.de/veranstaltung/georg-kreisler-geburtstag/
ATTACH;FMTTYPE=image/jpeg:https://www.kultur4all.de/wp-content/uploads/2025/07/Geburtstag-Georg-Kreisler-www.kultur4all.de_.jpg
END:VEVENT
BEGIN:VEVENT
DTSTART;TZID=Europe/Berlin:20260727T000000
DTEND;TZID=Europe/Berlin:20260727T235959
DTSTAMP:20260422T194122
CREATED:20240805T133755Z
LAST-MODIFIED:20251116T224855Z
UID:31100-1785110400-1785196799@www.kultur4all.de
SUMMARY:† Wolfgang Rihm – Todestag
DESCRIPTION:† 27.07.2024 \n\n\n01. Todestag. \n\n\nKomponist\n\n\n\nWikipedia
URL:https://www.kultur4all.de/veranstaltung/wolfgang-rihm/
END:VEVENT
BEGIN:VEVENT
DTSTART;TZID=Europe/Berlin:20260728T000000
DTEND;TZID=Europe/Berlin:20260728T235959
DTSTAMP:20260422T194122
CREATED:20241203T082043Z
LAST-MODIFIED:20251116T224748Z
UID:33141-1785196800-1785283199@www.kultur4all.de
SUMMARY:† Johann Sebastian Bach – Todestag
DESCRIPTION:† 28.07.1750 \n\n\n275. Todestag. \n\n\nKomponist\n\n\n\nWikipedia
URL:https://www.kultur4all.de/veranstaltung/%e2%80%a0-johann-sebastian-bach-todestag/
END:VEVENT
END:VCALENDAR