BEGIN:VCALENDAR
VERSION:2.0
PRODID:-//Kultur4all - ECPv6.15.20//NONSGML v1.0//EN
CALSCALE:GREGORIAN
METHOD:PUBLISH
X-WR-CALNAME:Kultur4all
X-ORIGINAL-URL:https://www.kultur4all.de
X-WR-CALDESC:Veranstaltungen für Kultur4all
REFRESH-INTERVAL;VALUE=DURATION:PT1H
X-Robots-Tag:noindex
X-PUBLISHED-TTL:PT1H
BEGIN:VTIMEZONE
TZID:Europe/Berlin
BEGIN:DAYLIGHT
TZOFFSETFROM:+0100
TZOFFSETTO:+0200
TZNAME:CEST
DTSTART:20250330T010000
END:DAYLIGHT
BEGIN:STANDARD
TZOFFSETFROM:+0200
TZOFFSETTO:+0100
TZNAME:CET
DTSTART:20251026T010000
END:STANDARD
BEGIN:DAYLIGHT
TZOFFSETFROM:+0100
TZOFFSETTO:+0200
TZNAME:CEST
DTSTART:20260329T010000
END:DAYLIGHT
BEGIN:STANDARD
TZOFFSETFROM:+0200
TZOFFSETTO:+0100
TZNAME:CET
DTSTART:20261025T010000
END:STANDARD
BEGIN:DAYLIGHT
TZOFFSETFROM:+0100
TZOFFSETTO:+0200
TZNAME:CEST
DTSTART:20270328T010000
END:DAYLIGHT
BEGIN:STANDARD
TZOFFSETFROM:+0200
TZOFFSETTO:+0100
TZNAME:CET
DTSTART:20271031T010000
END:STANDARD
END:VTIMEZONE
BEGIN:VEVENT
DTSTART;TZID=Europe/Berlin:20260904T000000
DTEND;TZID=Europe/Berlin:20260904T235959
DTSTAMP:20260424T140225
CREATED:20250403T170550Z
LAST-MODIFIED:20251116T223158Z
UID:34675-1788480000-1788566399@www.kultur4all.de
SUMMARY:* Hildur Guðnadóttir – Geburtstag
DESCRIPTION:* 4. September 1982 \n\n\n\n43. Geburtstag. \n\n\nFrauen in der Kultur\, Komponistin\n\n\n\nWikipedia
URL:https://www.kultur4all.de/veranstaltung/hildur-gudnadottir-geburtstag/
ATTACH;FMTTYPE=image/jpeg:https://www.kultur4all.de/wp-content/uploads/2025/04/Beitragsbild-Geburtstag-Hildur.jpg
END:VEVENT
BEGIN:VEVENT
DTSTART;TZID=Europe/Berlin:20260913T000000
DTEND;TZID=Europe/Berlin:20260913T235959
DTSTAMP:20260424T140225
CREATED:20240912T230000Z
LAST-MODIFIED:20251116T222754Z
UID:31353-1789257600-1789343999@www.kultur4all.de
SUMMARY:* Clara Schumann – Geburtstag
DESCRIPTION:* 13.09.1819 \n\n\n\n206. Todestag. \n\n\nFrauen in der Kultur\, Komponistin\n\n\n\nWikipedia
URL:https://www.kultur4all.de/veranstaltung/clara-schumann-geburtstag/
ATTACH;FMTTYPE=image/jpeg:https://www.kultur4all.de/wp-content/uploads/2023/09/Geburtstag-Clara-Schumann-kultur4all.de_.jpg
END:VEVENT
END:VCALENDAR