BEGIN:VCALENDAR
VERSION:2.0
PRODID:-//Kultur4all - ECPv6.15.20//NONSGML v1.0//EN
CALSCALE:GREGORIAN
METHOD:PUBLISH
X-WR-CALNAME:Kultur4all
X-ORIGINAL-URL:https://www.kultur4all.de
X-WR-CALDESC:Veranstaltungen für Kultur4all
REFRESH-INTERVAL;VALUE=DURATION:PT1H
X-Robots-Tag:noindex
X-PUBLISHED-TTL:PT1H
BEGIN:VTIMEZONE
TZID:Europe/Berlin
BEGIN:DAYLIGHT
TZOFFSETFROM:+0100
TZOFFSETTO:+0200
TZNAME:CEST
DTSTART:20250330T010000
END:DAYLIGHT
BEGIN:STANDARD
TZOFFSETFROM:+0200
TZOFFSETTO:+0100
TZNAME:CET
DTSTART:20251026T010000
END:STANDARD
BEGIN:DAYLIGHT
TZOFFSETFROM:+0100
TZOFFSETTO:+0200
TZNAME:CEST
DTSTART:20260329T010000
END:DAYLIGHT
BEGIN:STANDARD
TZOFFSETFROM:+0200
TZOFFSETTO:+0100
TZNAME:CET
DTSTART:20261025T010000
END:STANDARD
BEGIN:DAYLIGHT
TZOFFSETFROM:+0100
TZOFFSETTO:+0200
TZNAME:CEST
DTSTART:20270328T010000
END:DAYLIGHT
BEGIN:STANDARD
TZOFFSETFROM:+0200
TZOFFSETTO:+0100
TZNAME:CET
DTSTART:20271031T010000
END:STANDARD
BEGIN:DAYLIGHT
TZOFFSETFROM:+0100
TZOFFSETTO:+0200
TZNAME:CEST
DTSTART:20280326T010000
END:DAYLIGHT
BEGIN:STANDARD
TZOFFSETFROM:+0200
TZOFFSETTO:+0100
TZNAME:CET
DTSTART:20281029T010000
END:STANDARD
END:VTIMEZONE
BEGIN:VEVENT
DTSTART;TZID=Europe/Berlin:20260103T000000
DTEND;TZID=Europe/Berlin:20261231T235959
DTSTAMP:20260423T152933
CREATED:20260103T135517Z
LAST-MODIFIED:20260104T185542Z
UID:37874-1767398400-1798761599@www.kultur4all.de
SUMMARY:Opernklassiker | Die Zauberflöte von Wolfgang Amadeus Mozart
DESCRIPTION:Märchenhafte Oper rund um die böse Königin der Nacht\, dem fröhlichen Papageno mit seiner Papagena\, dem Prinzen Tamino\, der sich in Tamina verliebt und den Fürsten Sarastro und dessen Oberaufseher Monostatos. \n\n\n\nEs geht um Liebe\, Entführung\, Macht\, Freundschaft und drei Prüfungen\, die bestanden werden müssen. \n\n\n\nLibretto: Emanuel Schikaneder \n\n\n\nTickets\n\n\n\n\nEventim.de*\n\n\n\nAdticket.de*\n\n\n\nReservix.de*\n\n\n\nAhrensburg – Veranstaltungen\, Lesungen & mehr\n\n\nQuelle: www.kultur4all.de
URL:https://www.kultur4all.de/veranstaltung/opernklassiker-die-zauberfloete-von-wolfgang-amadeus-mozart/
CATEGORIES:Oper | Operette
END:VEVENT
BEGIN:VEVENT
DTSTART;TZID=Europe/Berlin:20260322T000000
DTEND;TZID=Europe/Berlin:20261220T235959
DTSTAMP:20260423T152933
CREATED:20260324T101013Z
LAST-MODIFIED:20260324T101556Z
UID:38911-1774137600-1797811199@www.kultur4all.de
SUMMARY:Zurück in die Zukunft – Das Musical
DESCRIPTION:Operettenhaus Hamburg\n\n\n\n\n\nDas Musical Zurück in die Zukunft basiert auf dem gleichnamigen Film aus den achtziger Jahren. Es feierte am 22. März 2026 seine Premiere im Operettenhaus in Hamburg. \n\n\n\nEs ist eine Produktion von Stage Entertainment. \n\n\n\n\nTickets*\n\n\n\n\n\nOperettenhaus Hamburg
URL:https://www.kultur4all.de/veranstaltung/zurueck-in-die-zukunft-das-musical/
CATEGORIES:Musicals
END:VEVENT
BEGIN:VEVENT
DTSTART;TZID=Europe/Berlin:20261105T000000
DTEND;TZID=Europe/Berlin:20261205T235959
DTSTAMP:20260423T152933
CREATED:20260128T102354Z
LAST-MODIFIED:20260219T153621Z
UID:36897-1793836800-1796515199@www.kultur4all.de
SUMMARY:Let's Dance – Die Live-Tour
DESCRIPTION:Let’s Dance – vielen als TV-Show bekannt – zeigt in der Live-Tour in einem Show-Konzept die Vielfalt des Standard-Tanzes und der Latein-Tänze. Die Profitänzer und Profitänzerinnen\, die in der TV-Show mehr oder weniger bekannten Persönlichkeiten den Paartanz versuchen näher zu bringen\, zeigen in der Live-Tour was sie wirklich können. \n\n\n\nTickets\n\n\n\n\nEventim.de*\n\n\n\n\nTourorte\n\n\n\nBerlinBraunschweigBremenDortmundDüsseldorfErfurtFrankfurtHamburgHannoverKölnLeipzigMannheimMünchenNürnbergOberhausenRiesaStuttgartZürich \n\n\nAhrensburg – Veranstaltungen\, Lesungen & mehr\n\n\nÄnderungen und Irrtümer vorbehalten. Ich bin um Aktualität bemüht. Bitte informiere dich zusätzlich beim örtlichen Veranstalter.
URL:https://www.kultur4all.de/veranstaltung/lets-dance-die-live-tour-2/
CATEGORIES:Show,Tanz | Ballett
ATTACH;FMTTYPE=image/jpeg:https://www.kultur4all.de/wp-content/uploads/2025/10/Lets-Dance-kultur4all.de_.jpg
END:VEVENT
BEGIN:VEVENT
DTSTART;TZID=Europe/Berlin:20261202T000000
DTEND;TZID=Europe/Berlin:20261202T235959
DTSTAMP:20260423T152933
CREATED:20251202T063530Z
LAST-MODIFIED:20260128T112219Z
UID:37531-1796169600-1796255999@www.kultur4all.de
SUMMARY:* Maria Callas – Geburtstag
DESCRIPTION:* 02.12.1923 \n\n\n\n102. Geburtstag. \n\n\nNorddeutschland\, Stormarn\n\n\n\nWikipedia\n\n\n\n\n\n+ Kultur4all-Tipp +Aufnahmen von Maria Callas hören bei Amazon Music*+ Kultur4all-Tipp +Die Diva: Maria Callas – die größte Sängerin ihrer Zeit und das Drama ihrer Liebe.Amazon.de* | Thalia.de* | Hugendubel.de*
URL:https://www.kultur4all.de/veranstaltung/maria-callas-geburtstag/
ATTACH;FMTTYPE=image/jpeg:https://www.kultur4all.de/wp-content/uploads/2023/09/Geburtstag-Maria-Callas-kultur4all.de_.jpg
END:VEVENT
BEGIN:VEVENT
DTSTART;TZID=Europe/Berlin:20261204T000000
DTEND;TZID=Europe/Berlin:20261204T235959
DTSTAMP:20260423T152933
CREATED:20251203T230100Z
LAST-MODIFIED:20260128T112104Z
UID:37544-1796342400-1796428799@www.kultur4all.de
SUMMARY:*  Charly Hübner – Geburtstag
DESCRIPTION:* 04.12.1972 \n\n\n\n53. Geburtstag. \n\n\nNorddeutschland\, Stormarn\n\n\n\nWikipedia
URL:https://www.kultur4all.de/veranstaltung/charly-huebner-geburtstag/
ATTACH;FMTTYPE=image/jpeg:https://www.kultur4all.de/wp-content/uploads/2025/12/Geburtstag-Charly-Huebner-www.kultur4all.de_.jpg
END:VEVENT
BEGIN:VEVENT
DTSTART;TZID=Europe/Berlin:20261204T000000
DTEND;TZID=Europe/Berlin:20261204T235959
DTSTAMP:20260423T152933
CREATED:20251204T000000Z
LAST-MODIFIED:20260128T132219Z
UID:37099-1796342400-1796428799@www.kultur4all.de
SUMMARY:† Hannah Arendt – Todestag
DESCRIPTION:† 04.12.1975 \n\n\n50. Todestag. \n\n\nNorddeutschland\, Stormarn\n\n\n\nWikipedia
URL:https://www.kultur4all.de/veranstaltung/hannah-arendt-todestag/
END:VEVENT
BEGIN:VEVENT
DTSTART;TZID=Europe/Berlin:20261205T000000
DTEND;TZID=Europe/Berlin:20261205T235959
DTSTAMP:20260423T152933
CREATED:20251205T163806Z
LAST-MODIFIED:20251208T125312Z
UID:37570-1796428800-1796515199@www.kultur4all.de
SUMMARY:† Alexandre Dumas  – Todestag
DESCRIPTION:† 05.12.1870 \n\n\n155. Todestag. \n\n\nNorddeutschland\, Stormarn\n\n\n\nWikipedia\n\n\n\n\n\nDie Kameliendame – Ein Ballett in 3 Akten
URL:https://www.kultur4all.de/veranstaltung/%e2%80%a0-alexandre-dumas-todestag/
END:VEVENT
BEGIN:VEVENT
DTSTART;TZID=Europe/Berlin:20261205T000000
DTEND;TZID=Europe/Berlin:20261205T235959
DTSTAMP:20260423T152933
CREATED:20260127T091327Z
LAST-MODIFIED:20260127T091342Z
UID:37568-1796428800-1796515199@www.kultur4all.de
SUMMARY:† Wolfgang Amadeus Mozart – Todestag
DESCRIPTION:† 05.12.1791 \n\n\n234. Todestag. \n\n\nNorddeutschland\, Stormarn\n\n\n\nWikipedia\n\n\n\n\n\nOpernklassiker | Die Zauberflöte von Wolfgang Amadeus Mozart\n\n\n\nAhrensburg – Veranstaltungen\, Lesungen & mehr\n\n\nQuelle: www.kultur4all.de
URL:https://www.kultur4all.de/veranstaltung/%e2%80%a0-wolfgang-amadeus-mozart-todestag/
CATEGORIES:Todestag
END:VEVENT
BEGIN:VEVENT
DTSTART;TZID=Europe/Berlin:20261212T000000
DTEND;TZID=Europe/Berlin:20261212T235959
DTSTAMP:20260423T152933
CREATED:20251212T074334Z
LAST-MODIFIED:20260128T111728Z
UID:37646-1797033600-1797119999@www.kultur4all.de
SUMMARY:* Gustave Flaubert – Geburtstag
DESCRIPTION:* 12.12.1821 \n\n\n\n204. Geburtstag. \n\n\nNorddeutschland\, Stormarn\n\n\n\nWikipedia\n\n\n\n\n\n\nBovary getanzt vom Staatsballett Berlin
URL:https://www.kultur4all.de/veranstaltung/gustave-flaubert-geburtstag/
ATTACH;FMTTYPE=image/jpeg:https://www.kultur4all.de/wp-content/uploads/2023/12/Geburtstag-Gustave-Flaubert-www.kultur4all.de_.jpg
END:VEVENT
BEGIN:VEVENT
DTSTART;TZID=Europe/Berlin:20261213T000000
DTEND;TZID=Europe/Berlin:20261213T235959
DTSTAMP:20260423T152934
CREATED:20241213T172639Z
LAST-MODIFIED:20260128T111610Z
UID:33280-1797120000-1797206399@www.kultur4all.de
SUMMARY:* Dick Van Dyke – Geburtstag
DESCRIPTION:*13.12.1925 \n\n\n\n\n* 13.12.1925 \n\n\n100. Geburtstag. \n\n\nNorddeutschland\, Stormarn\n\n\n\nWikipedia
URL:https://www.kultur4all.de/veranstaltung/dick-van-dyke-geburtstag/
ATTACH;FMTTYPE=image/jpeg:https://www.kultur4all.de/wp-content/uploads/2024/12/Geburtstag-Dick-van-Dyke-www.kultur4all.de_.jpg
END:VEVENT
BEGIN:VEVENT
DTSTART;TZID=Europe/Berlin:20261213T000000
DTEND;TZID=Europe/Berlin:20261213T235959
DTSTAMP:20260423T152934
CREATED:20251212T230100Z
LAST-MODIFIED:20260128T105757Z
UID:37651-1797120000-1797206399@www.kultur4all.de
SUMMARY:* Paul Maar – Geburtstag
DESCRIPTION:* 13.12.1937 \n\n\n\n88. Geburtstag. \n\n\nNorddeutschland\, Stormarn\n\n\n\nWikipedia\n\n\n\n\n\n\nEine Woche voller Samstage von Paul Maar
URL:https://www.kultur4all.de/veranstaltung/paul-maar-geburtstag/
ATTACH;FMTTYPE=image/jpeg:https://www.kultur4all.de/wp-content/uploads/2023/12/Geburtstag-Paul-Maar-www.kultur4all.de_.jpg
END:VEVENT
BEGIN:VEVENT
DTSTART;TZID=Europe/Berlin:20261216T000000
DTEND;TZID=Europe/Berlin:20261216T235959
DTSTAMP:20260423T152934
CREATED:20250116T104033Z
LAST-MODIFIED:20260128T105553Z
UID:33607-1797379200-1797465599@www.kultur4all.de
SUMMARY:* Jane Austen – Geburtstag
DESCRIPTION:* 16.12.1775 \n\n\n\n250. Geburtstag. \n\n\nNorddeutschland\, Stormarn\n\n\n\nWikipedia\n\n\n\n\n\n\nStolz und Vorurteil von Jane Austen
URL:https://www.kultur4all.de/veranstaltung/jane-austen-geburtstag/
ATTACH;FMTTYPE=image/jpeg:https://www.kultur4all.de/wp-content/uploads/2025/01/Geburtstag-Jane-Austen-www.kultur4all.de_.jpg
END:VEVENT
BEGIN:VEVENT
DTSTART;TZID=Europe/Berlin:20261216T000000
DTEND;TZID=Europe/Berlin:20261216T235959
DTSTAMP:20260423T152934
CREATED:20251215T230100Z
LAST-MODIFIED:20260128T105435Z
UID:37673-1797379200-1797465599@www.kultur4all.de
SUMMARY:† Camille Saint-Saëns – Todestag
DESCRIPTION:† 16.12.1921 \n\n\n104. Todestag. \n\n\nNorddeutschland\, Stormarn\n\n\n\nWikipedia
URL:https://www.kultur4all.de/veranstaltung/camille-saint-saens-todestag/
END:VEVENT
BEGIN:VEVENT
DTSTART;TZID=Europe/Berlin:20261217T000000
DTEND;TZID=Europe/Berlin:20261217T235959
DTSTAMP:20260423T152934
CREATED:20251217T133905Z
LAST-MODIFIED:20260128T104930Z
UID:37683-1797465600-1797551999@www.kultur4all.de
SUMMARY:* Ludwig van Beethoven – Geburtstag
DESCRIPTION:* 17.12.1770 (Taufdatum) \n\n\n\n255. Geburtstag. \n\n\nNorddeutschland\, Stormarn\n\n\n\nWikipedia
URL:https://www.kultur4all.de/veranstaltung/ludwig-van-beethoven-geburtstag/
ATTACH;FMTTYPE=image/jpeg:https://www.kultur4all.de/wp-content/uploads/2023/03/Geburtstag-Beethoven.jpg
END:VEVENT
BEGIN:VEVENT
DTSTART;TZID=Europe/Berlin:20261217T000000
DTEND;TZID=Europe/Berlin:20261217T235959
DTSTAMP:20260423T152934
CREATED:20251217T134322Z
LAST-MODIFIED:20260128T104818Z
UID:37685-1797465600-1797551999@www.kultur4all.de
SUMMARY:* Armin Müller-Stahl – Geburtstag
DESCRIPTION:* 17.12.1930 \n\n\n\n98. Geburtstag. \n\n\nNorddeutschland\, Stormarn\n\n\n\nWikipedia
URL:https://www.kultur4all.de/veranstaltung/armin-mueller-stahl-geburtstag/
ATTACH;FMTTYPE=image/jpeg:https://www.kultur4all.de/wp-content/uploads/2023/12/Geburtstag-Armin-Mueller-Stahl-www.kultur4all.de_.jpg
END:VEVENT
BEGIN:VEVENT
DTSTART;TZID=Europe/Berlin:20261219T000000
DTEND;TZID=Europe/Berlin:20261219T235959
DTSTAMP:20260423T152934
CREATED:20251218T230100Z
LAST-MODIFIED:20260128T104722Z
UID:37691-1797638400-1797724799@www.kultur4all.de
SUMMARY:† Renata Tebaldi – Todestag
DESCRIPTION:† 19.12.2004 \n\n\n121. Todestag. \n\n\nNorddeutschland\, Stormarn\n\n\n\nWikipedia
URL:https://www.kultur4all.de/veranstaltung/renata-tebaldi-todestag/
END:VEVENT
BEGIN:VEVENT
DTSTART;TZID=Europe/Berlin:20261219T000000
DTEND;TZID=Europe/Berlin:20261219T235959
DTSTAMP:20260423T152934
CREATED:20251218T230100Z
LAST-MODIFIED:20260128T104607Z
UID:37689-1797638400-1797724799@www.kultur4all.de
SUMMARY:* Rebecca Saunders – Geburtstag
DESCRIPTION:* 19.12.1967 \n\n\n\n58. Geburtstag. \n\n\nNorddeutschland\, Stormarn\n\n\n\nWikipedia
URL:https://www.kultur4all.de/veranstaltung/rebecca-saunders-geburtstag/
ATTACH;FMTTYPE=image/jpeg:https://www.kultur4all.de/wp-content/uploads/2024/01/Geburtstag-Rebecca-Saunders.jpg
END:VEVENT
BEGIN:VEVENT
DTSTART;TZID=Europe/Berlin:20261222T000000
DTEND;TZID=Europe/Berlin:20261222T235959
DTSTAMP:20260423T152934
CREATED:20241222T000000Z
LAST-MODIFIED:20260128T103936Z
UID:30281-1797897600-1797983999@www.kultur4all.de
SUMMARY:* Giacomo Puccini – Geburtstag
DESCRIPTION:* 22.12.1858 \n\n\n\n167. Geburtstag. \n\n\nNorddeutschland\, Stormarn\n\n\n\nWikipedia
URL:https://www.kultur4all.de/veranstaltung/giacomo-puccini/
ATTACH;FMTTYPE=image/jpeg:https://www.kultur4all.de/wp-content/uploads/2024/07/Geburtstag-Giacomo-Puccini-www.kultur4all.de_.jpg
END:VEVENT
BEGIN:VEVENT
DTSTART;TZID=Europe/Berlin:20261223T000000
DTEND;TZID=Europe/Berlin:20261223T235959
DTSTAMP:20260423T152934
CREATED:20250116T133144Z
LAST-MODIFIED:20260128T103819Z
UID:32301-1797984000-1798070399@www.kultur4all.de
SUMMARY:* Edita Gruberová – Geburtstag
DESCRIPTION:79. Geburtstag. \n\n\nNorddeutschland\, Stormarn\n\n\n\nWikipedia
URL:https://www.kultur4all.de/veranstaltung/edita-gruberova-geburtstag/
ATTACH;FMTTYPE=image/jpeg:https://www.kultur4all.de/wp-content/uploads/2024/10/Geburtstag-Edita-Gruberova.jpg
END:VEVENT
BEGIN:VEVENT
DTSTART;TZID=Europe/Berlin:20261225T000000
DTEND;TZID=Europe/Berlin:20261225T235959
DTSTAMP:20260423T152934
CREATED:20251224T230100Z
LAST-MODIFIED:20260128T104040Z
UID:37720-1798156800-1798243199@www.kultur4all.de
SUMMARY:† Peter Schreier – Todestag
DESCRIPTION:† 25.12.2019 \n\n\n06. Todestag. \n\n\nNorddeutschland\, Stormarn\n\n\n\nWikipedia
URL:https://www.kultur4all.de/veranstaltung/peter-schreier-todestag/
END:VEVENT
BEGIN:VEVENT
DTSTART;TZID=Europe/Berlin:20261226T000000
DTEND;TZID=Europe/Berlin:20261226T235959
DTSTAMP:20260423T152934
CREATED:20251225T230100Z
LAST-MODIFIED:20260128T104154Z
UID:37723-1798243200-1798329599@www.kultur4all.de
SUMMARY:† Jerry Herman – Todestag
DESCRIPTION:† 26.12.2019 \n\n\n06. Todestag. \n\n\nNorddeutschland\, Stormarn\n\n\n\nWikipedia
URL:https://www.kultur4all.de/veranstaltung/jerry-herman-todestag/
END:VEVENT
BEGIN:VEVENT
DTSTART;TZID=Europe/Berlin:20261227T000000
DTEND;TZID=Europe/Berlin:20261227T235959
DTSTAMP:20260423T152934
CREATED:20251226T230100Z
LAST-MODIFIED:20260128T104249Z
UID:37761-1798329600-1798415999@www.kultur4all.de
SUMMARY:* Carl Zuckmayer – Geburtstag
DESCRIPTION:* 27.12.1896 \n\n\n\n129. Geburtstag. \n\n\nNorddeutschland\, Stormarn\n\n\n\nWikipedia
URL:https://www.kultur4all.de/veranstaltung/carl-zuckmayer-geburtstag/
ATTACH;FMTTYPE=image/jpeg:https://www.kultur4all.de/wp-content/uploads/2025/12/Geburtstag-Carl-Zuckmayer-www.kultur4all.de_.jpg
END:VEVENT
BEGIN:VEVENT
DTSTART;TZID=Europe/Berlin:20261228T000000
DTEND;TZID=Europe/Berlin:20261228T235959
DTSTAMP:20260423T152934
CREATED:20250124T102746Z
LAST-MODIFIED:20260128T104352Z
UID:33745-1798416000-1798502399@www.kultur4all.de
SUMMARY:† Maurice Ravel – Todestag
DESCRIPTION:† 28.12.1937 \n\n\n88. Todestag. \n\n\nNorddeutschland\, Stormarn\n\n\n\nWikipedia
URL:https://www.kultur4all.de/veranstaltung/maurice-ravel-todestag/
END:VEVENT
BEGIN:VEVENT
DTSTART;TZID=Europe/Berlin:20261228T000000
DTEND;TZID=Europe/Berlin:20261228T235959
DTSTAMP:20260423T152934
CREATED:20251227T230100Z
LAST-MODIFIED:20260128T104500Z
UID:37775-1798416000-1798502399@www.kultur4all.de
SUMMARY:† Susan Sontag – Todestag
DESCRIPTION:† 28.12.2004 \n\n\n21. Todestag. \n\n\nNorddeutschland\, Stormarn\n\n\n\nWikipedia
URL:https://www.kultur4all.de/veranstaltung/susan-sontag-todestag/
END:VEVENT
BEGIN:VEVENT
DTSTART;TZID=Europe/Berlin:20261228T000000
DTEND;TZID=Europe/Berlin:20270317T235959
DTSTAMP:20260423T152934
CREATED:20260320T155750Z
LAST-MODIFIED:20260320T155751Z
UID:36001-1798416000-1805327999@www.kultur4all.de
SUMMARY:Feuerwerk der Turnkunst
DESCRIPTION:hope – Torunee 2027 & on stage – RAW\n\n\nAhrensburg – Veranstaltungen\, Lesungen & mehr\n\n\n\n\nDas Feuerwerk der Turnkunst vereint Turnen und Akrobatik auf höchstem Niveau. Licht\, Musik und Kostüme vervollständigen Jahr für Jahr die Show. \n\n\n\nTickets\n\n\n\n\nEventim.de*\n\n\n\nTicketmaster.de*\n\n\n\n\n\nWebsite des Feuerwerks der Turnkunst
URL:https://www.kultur4all.de/veranstaltung/feuerwerk-der-turnkunst/
CATEGORIES:Show
ATTACH;FMTTYPE=image/jpeg:https://www.kultur4all.de/wp-content/uploads/2022/08/Feuerwerk-der-Turnkunst-kultur4all.de-501-x-382.jpg
END:VEVENT
BEGIN:VEVENT
DTSTART;TZID=Europe/Berlin:20261230T000000
DTEND;TZID=Europe/Berlin:20261230T235959
DTSTAMP:20260423T152934
CREATED:20251229T230100Z
LAST-MODIFIED:20260128T105037Z
UID:37777-1798588800-1798675199@www.kultur4all.de
SUMMARY:* Theodor Fontane – Geburtstag
DESCRIPTION:* 30.12.1819 \n\n\n\n206. Geburtstag. \n\n\nNorddeutschland\, Stormarn\n\n\n\nWikipedia\n\n\n\n\n\nBuchtipps\n\n\n\n\nEffi Briest von Theodor Fontane\n\n\n\n\n\nFrau Jenny Treibel von Theodor Fontane\n\n\n\n\n\nStine von Theodor Fontane
URL:https://www.kultur4all.de/veranstaltung/theodor-fontane-geburtstag/
ATTACH;FMTTYPE=image/jpeg:https://www.kultur4all.de/wp-content/uploads/2025/12/Geburtstag-Theodor-Fontane-www.kultur4all.de_.jpg
END:VEVENT
BEGIN:VEVENT
DTSTART;TZID=Europe/Berlin:20261231T000000
DTEND;TZID=Europe/Berlin:20261231T235959
DTSTAMP:20260423T152934
CREATED:20250109T064803Z
LAST-MODIFIED:20260204T150559Z
UID:33484-1798675200-1798761599@www.kultur4all.de
SUMMARY:† Kurt Tucholsky – Todestag
DESCRIPTION:† 31.12.1935 \n\n\n90. Todestag. \n\n\nNorddeutschland\, Stormarn\n\n\n\nWikipedia
URL:https://www.kultur4all.de/veranstaltung/kurt-tucholsky-todestag/
END:VEVENT
END:VCALENDAR