BEGIN:VCALENDAR
VERSION:2.0
PRODID:-//Kultur4all - ECPv6.15.20//NONSGML v1.0//EN
CALSCALE:GREGORIAN
METHOD:PUBLISH
X-WR-CALNAME:Kultur4all
X-ORIGINAL-URL:https://www.kultur4all.de
X-WR-CALDESC:Veranstaltungen für Kultur4all
REFRESH-INTERVAL;VALUE=DURATION:PT1H
X-Robots-Tag:noindex
X-PUBLISHED-TTL:PT1H
BEGIN:VTIMEZONE
TZID:Europe/Berlin
BEGIN:DAYLIGHT
TZOFFSETFROM:+0100
TZOFFSETTO:+0200
TZNAME:CEST
DTSTART:20240331T010000
END:DAYLIGHT
BEGIN:STANDARD
TZOFFSETFROM:+0200
TZOFFSETTO:+0100
TZNAME:CET
DTSTART:20241027T010000
END:STANDARD
BEGIN:DAYLIGHT
TZOFFSETFROM:+0100
TZOFFSETTO:+0200
TZNAME:CEST
DTSTART:20250330T010000
END:DAYLIGHT
BEGIN:STANDARD
TZOFFSETFROM:+0200
TZOFFSETTO:+0100
TZNAME:CET
DTSTART:20251026T010000
END:STANDARD
BEGIN:DAYLIGHT
TZOFFSETFROM:+0100
TZOFFSETTO:+0200
TZNAME:CEST
DTSTART:20260329T010000
END:DAYLIGHT
BEGIN:STANDARD
TZOFFSETFROM:+0200
TZOFFSETTO:+0100
TZNAME:CET
DTSTART:20261025T010000
END:STANDARD
BEGIN:DAYLIGHT
TZOFFSETFROM:+0100
TZOFFSETTO:+0200
TZNAME:CEST
DTSTART:20270328T010000
END:DAYLIGHT
BEGIN:STANDARD
TZOFFSETFROM:+0200
TZOFFSETTO:+0100
TZNAME:CET
DTSTART:20271031T010000
END:STANDARD
END:VTIMEZONE
BEGIN:VEVENT
DTSTART;TZID=Europe/Berlin:20251024T000000
DTEND;TZID=Europe/Berlin:20260802T235959
DTSTAMP:20260422T125930
CREATED:20250926T112934Z
LAST-MODIFIED:20260108T063911Z
UID:36519-1761264000-1785715199@www.kultur4all.de
SUMMARY:Cirque du Soleil ALIZÉ - Eine Reise in das Unsichtbare
DESCRIPTION:Tickets*\n\n\n\n\nDie Weltpremiere von Cirque du Soleil ALIZÉ – Eine Reise in das Unsichtbare findet am 20. November 2025 in Berlin statt. Im Theater am Potsdamer Platz bleibt die Zirkus-Show dann bis August 2026 zu Gast. Das Konzept aus Zirkus\, Akrobatik\, Live-Musik und phantasievollen Kostümen wird auch in ALIZÉ umgesetzt.
URL:https://www.kultur4all.de/veranstaltung/cirque-du-soleil-alize-eine-reise-in-das-unsichtbare/
CATEGORIES:Show
ATTACH;FMTTYPE=image/jpeg:https://www.kultur4all.de/wp-content/uploads/2025/09/Cirque-du-soleil-Alize.jpg
END:VEVENT
BEGIN:VEVENT
DTSTART;TZID=Europe/Berlin:20251112T000000
DTEND;TZID=Europe/Berlin:20260830T235959
DTSTAMP:20260422T125930
CREATED:20251008T130604Z
LAST-MODIFIED:20260108T064029Z
UID:36664-1762905600-1788134399@www.kultur4all.de
SUMMARY:Tarzan – Das Musical
DESCRIPTION:Wiederaufnahme in Hamburg im Herbst 2025\n\n\n\n\n\nAlexander Klaws begeisterte erneut in der Rolle des Tarzans bei der Premiere in Hamburg. \nFoto: Johan Persson\n\n\n\nPremiere am Donnerstag 20. November 2025 \n\n\n\nTickets\n\n\n\n\nEventim.de*\n\n\n\n\nOrt\n\n\n\n\nNeue Flora\n\n\n\n\n+ Musik +Tarzan-Deutsche Originalversion des MusicalsMusik und Texte: Phil CollinsAmazon.de*\n\n\n\n\nTarzan kommt\, Hercules geht
URL:https://www.kultur4all.de/veranstaltung/tarzan-das-musical/
CATEGORIES:Musicals
ATTACH;FMTTYPE=image/jpeg:https://www.kultur4all.de/wp-content/uploads/2025/10/JPG-72-dpi-RGB-Tar_Klaws_2025-1.jpg
END:VEVENT
BEGIN:VEVENT
DTSTART;TZID=Europe/Berlin:20260103T000000
DTEND;TZID=Europe/Berlin:20261231T235959
DTSTAMP:20260422T125930
CREATED:20260103T135517Z
LAST-MODIFIED:20260104T185542Z
UID:37874-1767398400-1798761599@www.kultur4all.de
SUMMARY:Opernklassiker | Die Zauberflöte von Wolfgang Amadeus Mozart
DESCRIPTION:Märchenhafte Oper rund um die böse Königin der Nacht\, dem fröhlichen Papageno mit seiner Papagena\, dem Prinzen Tamino\, der sich in Tamina verliebt und den Fürsten Sarastro und dessen Oberaufseher Monostatos. \n\n\n\nEs geht um Liebe\, Entführung\, Macht\, Freundschaft und drei Prüfungen\, die bestanden werden müssen. \n\n\n\nLibretto: Emanuel Schikaneder \n\n\n\nTickets\n\n\n\n\nEventim.de*\n\n\n\nAdticket.de*\n\n\n\nReservix.de*\n\n\n\nFestivals | Festspiele\, Lesungen & mehr\n\n\nQuelle: www.kultur4all.de
URL:https://www.kultur4all.de/veranstaltung/opernklassiker-die-zauberfloete-von-wolfgang-amadeus-mozart/
CATEGORIES:Oper | Operette
END:VEVENT
BEGIN:VEVENT
DTSTART;TZID=Europe/Berlin:20260109T000000
DTEND;TZID=Europe/Berlin:20260911T235959
DTSTAMP:20260422T125930
CREATED:20260128T133045Z
LAST-MODIFIED:20260128T133154Z
UID:38184-1767916800-1789171199@www.kultur4all.de
SUMMARY:Breakin' Mozart
DESCRIPTION:Klassik Meets Breakdance\n\n\n\n\n\nBy Lorenzo Duaso\n\n\n\nPasst das zusammen? Opernregisseur Christoph Hagel und die Breakdance Gruppe DDC bringen Headspins\, Windmills\, Menuett und Mozarts Musik auf die Bühne.  \n\n\n\nWer war nochmal Mozart? Ja der: Wolfgang Amadeus Mozart – Komponist\, Wunderkind\, Bruder von Nanerl\, Wiener. Jung gestorben\, aber seine Musik lebt noch heute.  \n\n\n\n\nTickets* \n\n\n\nFestivals | Festspiele\, Lesungen & mehr\n\n\nQuelle: www.kultur4all.de
URL:https://www.kultur4all.de/veranstaltung/breakin-mozart/
CATEGORIES:Show
ATTACH;FMTTYPE=image/jpeg:https://www.kultur4all.de/wp-content/uploads/2026/01/Breakin-Mozart-Pressebild-2-webversion.jpg
END:VEVENT
BEGIN:VEVENT
DTSTART;TZID=Europe/Berlin:20260322T000000
DTEND;TZID=Europe/Berlin:20261220T235959
DTSTAMP:20260422T125930
CREATED:20260324T101013Z
LAST-MODIFIED:20260324T101556Z
UID:38911-1774137600-1797811199@www.kultur4all.de
SUMMARY:Zurück in die Zukunft – Das Musical
DESCRIPTION:Operettenhaus Hamburg\n\n\n\n\n\nDas Musical Zurück in die Zukunft basiert auf dem gleichnamigen Film aus den achtziger Jahren. Es feierte am 22. März 2026 seine Premiere im Operettenhaus in Hamburg. \n\n\n\nEs ist eine Produktion von Stage Entertainment. \n\n\n\n\nTickets*\n\n\n\n\n\nOperettenhaus Hamburg
URL:https://www.kultur4all.de/veranstaltung/zurueck-in-die-zukunft-das-musical/
CATEGORIES:Musicals
END:VEVENT
BEGIN:VEVENT
DTSTART;TZID=Europe/Berlin:20260412T000000
DTEND;TZID=Europe/Berlin:20260710T235959
DTSTAMP:20260422T125930
CREATED:20260216T064648Z
LAST-MODIFIED:20260216T064734Z
UID:38554-1775952000-1783727999@www.kultur4all.de
SUMMARY:Bergedorfer Musiktage
DESCRIPTION:Der Verein Bergedorfer Musiktage e.V. organisiert die Bergedorfer Musiktage seit 2002 in Spielstätten in Bergedorf bei Hamburg und in den Vierlanden.  \n\n\n\n\nTickets*\n\n\n\n\nProgramm\n\n\n\n\nProgramm hier
URL:https://www.kultur4all.de/veranstaltung/bergedorfer-musiktage/
CATEGORIES:Festivals | Festspiele
END:VEVENT
BEGIN:VEVENT
DTSTART;TZID=Europe/Berlin:20260613T000000
DTEND;TZID=Europe/Berlin:20260912T235959
DTSTAMP:20260422T125930
CREATED:20260410T075537Z
LAST-MODIFIED:20260410T080354Z
UID:35298-1781308800-1789257599@www.kultur4all.de
SUMMARY:Festspiele Mecklenburg-Vorpommern
DESCRIPTION:In diesem Jahr finden zum 36. Mal die Festspiele Mecklenburg-Vorpommern statt. Über 100 Konzerte sollen an fast 100 Spielstätten die Menschen erfreuen. \n\n\n\n\nProgramm
URL:https://www.kultur4all.de/veranstaltung/festspiele-mecklenburg-vorpommern/
CATEGORIES:Festivals | Festspiele
ATTACH;FMTTYPE=image/jpeg:https://www.kultur4all.de/wp-content/uploads/2025/03/Festival.jpg
END:VEVENT
BEGIN:VEVENT
DTSTART;TZID=Europe/Berlin:20260626T000000
DTEND;TZID=Europe/Berlin:20260712T235959
DTSTAMP:20260422T125930
CREATED:20260318T213628Z
LAST-MODIFIED:20260318T213631Z
UID:38780-1782432000-1783900799@www.kultur4all.de
SUMMARY:La Capitale d`Été – Sommerfestspiele
DESCRIPTION:Festspielhaus Baden-Baden\n\n\n\n\n\n\nWebsite\n\n\n\nTickets*\n\n\n\n\n\nFestspielhaus Baden-Baden
URL:https://www.kultur4all.de/veranstaltung/la-capitale-dete-sommerfestspiele/
CATEGORIES:Festivals | Festspiele
ATTACH;FMTTYPE=image/jpeg:https://www.kultur4all.de/wp-content/uploads/2026/03/La-Capitale-dete-Sommerfestspiele-Kultur4all.de_.jpg
END:VEVENT
BEGIN:VEVENT
DTSTART;TZID=Europe/Berlin:20260703T000000
DTEND;TZID=Europe/Berlin:20260703T235959
DTSTAMP:20260422T125930
CREATED:20251024T072149Z
LAST-MODIFIED:20251117T121625Z
UID:29850-1783036800-1783123199@www.kultur4all.de
SUMMARY:* Franz Kafka – Geburtstag
DESCRIPTION:* 03.07.1883 \n\n\n\n142. Geburtstag. \n\n\nOstdeutschland\, Sachsen\n\n\n\nWikipedia
URL:https://www.kultur4all.de/veranstaltung/franz-kafka/
ATTACH;FMTTYPE=image/jpeg:https://www.kultur4all.de/wp-content/uploads/2024/03/Geburtstag-FRranz-Kafka-www.kultur4all.de_.jpg
END:VEVENT
BEGIN:VEVENT
DTSTART;TZID=Europe/Berlin:20260703T000000
DTEND;TZID=Europe/Berlin:20260821T235959
DTSTAMP:20260422T125930
CREATED:20251113T090400Z
LAST-MODIFIED:20251113T091419Z
UID:32581-1783036800-1787356799@www.kultur4all.de
SUMMARY:David Garrett – Open Air 2026
DESCRIPTION:Millennium Symphony\n\n\n\n\n\nTour-Orte\n\n\n\n\n03.07.2026 – Halle (Westfalen)\, OWL Arena\n\n\n\n04.07.2026 – Sankt Goarshausen\, Loreley Freilichtbühne\n\n\n\n05.07.2026 – Mönchengladbach\, SparkassenPark\n\n\n\n11.07.2026 – Rostock\, IGA Park\n\n\n\n12.07.2026 – Berlin\, Gendarmenmarkt (Classic Open Air)\n\n\n\n14.07.2026 – Regensburg\, Schloss St. Emmeram\n\n\n\n16.07.2026 – Bad Nauheim\, Sommer-Reihe\n\n\n\n31.07.2026 – Füssen\, Barockgarten am Festspielhaus\n\n\n\n01.08.2026 – Salem\, Schloss Salem\n\n\n\n02.08.2026 – Ludwigsburg\, Residenzschloss\n\n\n\n08.08.2026 – Schwetzingen\, Schloss Schwetzingen\n\n\n\n11.08.2026 – Bremen\, Seebühne Bremen\n\n\n\n21.08.2026 – München\, Königsplatz\n\n\n\n\n\nTicketmaster*\n\n\n\neventim*\n\n\n\n\nNeues Album \n\n\n\nMillennium SymphonyDie größten Hits der letzten 25 Jahre.\n\n\n\n\nAmazon*\n\n\n\nThalia*\n\n\n\nHugendubel*\n\n\n\nJPC*
URL:https://www.kultur4all.de/veranstaltung/david-garrett-millennium-symphony-world-tour-2025/
CATEGORIES:Konzerte
ATTACH;FMTTYPE=image/jpeg:https://www.kultur4all.de/wp-content/uploads/2024/10/David-Garrett-Open-Air-Tour-2026-Millenium-Symphony.jpg
END:VEVENT
BEGIN:VEVENT
DTSTART;TZID=Europe/Berlin:20260704T000000
DTEND;TZID=Europe/Berlin:20260704T235959
DTSTAMP:20260422T125930
CREATED:20251025T140335Z
LAST-MODIFIED:20251117T121512Z
UID:35407-1783123200-1783209599@www.kultur4all.de
SUMMARY:* Ute Lemper – Geburtstag
DESCRIPTION:* 04.07.1963 \n\n\n\n62. Geburtstag. \n\n\nOstdeutschland\, Sachsen\n\n\n\nWikipedia
URL:https://www.kultur4all.de/veranstaltung/ute-lemper-geburtstag/
ATTACH;FMTTYPE=image/jpeg:https://www.kultur4all.de/wp-content/uploads/2023/07/Geburtstag-Ute-Lemper.jpg
END:VEVENT
BEGIN:VEVENT
DTSTART;TZID=Europe/Berlin:20260704T000000
DTEND;TZID=Europe/Berlin:20260830T235959
DTSTAMP:20260422T125930
CREATED:20260226T080000Z
LAST-MODIFIED:20260220T170035Z
UID:34152-1783123200-1788134399@www.kultur4all.de
SUMMARY:Schleswig-Holstein Musik Festival (SHMF)
DESCRIPTION:Das Schleswig-Holstein Musik Festival findet auch in diesem Jahr an verschiedenen\, auch ungewöhnlichen Spielorten in ganz Schleswig-Holstein statt. Seit ein paar Jahren finden Konzerte auch in Hamburg ihr Publikum. \n\n\n\nWie eh und je gibt es die sogenannten Musikfeste auf dem Lande – gern mit Picknick und Familie.  \n\n\n\nAngehende Profimusiker und -musikerinnen freuen sich über eine Teilnahme an den Meisterkursen. \n\n\n\nDer Musikstädteschwerpunkt ist in diesem Jahr Istanbul (Türkei) mit dem Künstlerprotrait Fazıl Say (Klavier). \n\n\n\n\nWebsite des SHMF\n\n\n\n\nQuelle: www.kultur4all.de
URL:https://www.kultur4all.de/veranstaltung/schleswig-holstein-musik-festival-shmf/
CATEGORIES:Festivals | Festspiele,Konzerte
ATTACH;FMTTYPE=image/jpeg:https://www.kultur4all.de/wp-content/uploads/2025/03/Festival.jpg
END:VEVENT
BEGIN:VEVENT
DTSTART;TZID=Europe/Berlin:20260705T000000
DTEND;TZID=Europe/Berlin:20260705T235959
DTSTAMP:20260422T125930
CREATED:20260420T165300Z
LAST-MODIFIED:20260420T165301Z
UID:39144-1783209600-1783295999@www.kultur4all.de
SUMMARY:Hamburger Ballett-Tage
DESCRIPTION:Die Hamburger Ballett-Tage bilden den Abschluss der Spielzeit und beginnen mit der Uraufführung von Wunderland (Alexei Ratmansky). Eine Gast-Compagnie wird außerdem eingeladen. Höhepunkt der Hamburger Ballett-Tage und Schluss der Spielzeit ist die traditionelle Nijinsky-Gala. \n\n\n\n\nTickets*\n\n\n\nWebsite
URL:https://www.kultur4all.de/veranstaltung/hamburger-ballett-tage/
LOCATION:Staatsoper Hamburg\, Große Theaterstraße 25\, Hamburg\, 20354
CATEGORIES:Festivals | Festspiele,Tanz | Ballett
ATTACH;FMTTYPE=image/jpeg:https://www.kultur4all.de/wp-content/uploads/2026/04/Hamburger-Ballett-Tage.jpg
END:VEVENT
BEGIN:VEVENT
DTSTART;TZID=Europe/Berlin:20260713T000000
DTEND;TZID=Europe/Berlin:20260713T235959
DTSTAMP:20260422T125930
CREATED:20250113T094615Z
LAST-MODIFIED:20251117T121402Z
UID:31337-1783900800-1783987199@www.kultur4all.de
SUMMARY:† Arnold Schönberg – Todestag
DESCRIPTION:† 13.07.1951 \n\n\n74. Todestag. \n\n\nOstdeutschland\, Sachsen\n\n\n\nWikipedia
URL:https://www.kultur4all.de/veranstaltung/arnold-schoenberg-todestag/
END:VEVENT
BEGIN:VEVENT
DTSTART;TZID=Europe/Berlin:20260718T000000
DTEND;TZID=Europe/Berlin:20260718T235959
DTSTAMP:20260422T125930
CREATED:20250116T104340Z
LAST-MODIFIED:20251116T225419Z
UID:33610-1784332800-1784419199@www.kultur4all.de
SUMMARY:† Jane Austen – Todestag
DESCRIPTION:† 18.07.1817 \n\n\n208. Todestag. \n\n\nOstdeutschland\, Sachsen\n\n\n\nWikipedia\n\n\n\n\n\nStolz und Vorurteil von Jane Austen
URL:https://www.kultur4all.de/veranstaltung/%e2%80%a0-jane-austen-todestag/
END:VEVENT
BEGIN:VEVENT
DTSTART;TZID=Europe/Berlin:20260718T000000
DTEND;TZID=Europe/Berlin:20260718T235959
DTSTAMP:20260422T125930
CREATED:20250718T054050Z
LAST-MODIFIED:20251116T225029Z
UID:35552-1784332800-1784419199@www.kultur4all.de
SUMMARY:* Georg Kreisler – Geburtstag
DESCRIPTION:* 18.07.1922 \n\n\n\n103. Geburtstag. \n\n\nOstdeutschland\, Sachsen\n\n\n\nWikipedia
URL:https://www.kultur4all.de/veranstaltung/georg-kreisler-geburtstag/
ATTACH;FMTTYPE=image/jpeg:https://www.kultur4all.de/wp-content/uploads/2025/07/Geburtstag-Georg-Kreisler-www.kultur4all.de_.jpg
END:VEVENT
BEGIN:VEVENT
DTSTART;TZID=Europe/Berlin:20260724T000000
DTEND;TZID=Europe/Berlin:20260724T235959
DTSTAMP:20260422T125930
CREATED:20250724T063353Z
LAST-MODIFIED:20251116T224945Z
UID:35611-1784851200-1784937599@www.kultur4all.de
SUMMARY:* Alexandre Dumas – Geburtstag
DESCRIPTION:* 24.07.1802 \n\n\n\n223. Geburtstag. \n\n\nOstdeutschland\, Sachsen\n\n\n\nWikipedia\n\n\n\n\n\n\nDie Kameliendame – Ein Ballett in 3 Akten
URL:https://www.kultur4all.de/veranstaltung/alexandre-dumas-geburtstag/
ATTACH;FMTTYPE=image/jpeg:https://www.kultur4all.de/wp-content/uploads/2023/07/Geburtstag-Alexandre-Dumas.jpg
END:VEVENT
BEGIN:VEVENT
DTSTART;TZID=Europe/Berlin:20260724T000000
DTEND;TZID=Europe/Berlin:20260726T235959
DTSTAMP:20260422T125930
CREATED:20260419T063907Z
LAST-MODIFIED:20260419T063909Z
UID:34824-1784851200-1785110399@www.kultur4all.de
SUMMARY:Spielbudenfestival auf St. Pauli
DESCRIPTION:Das Festival für Straßenkunst und -theater auf dem Spielbudenplatz\n\n\n\n\n\n\nWebsite\n\n\n\n\nEintritt: kostenlos\, aber um sogenanntes Hutgeld wird gebeten (also an Bargeld denken). \n\n\n\nAdresse\n\n\n\nSpielbudenplatz20359 Hamburg
URL:https://www.kultur4all.de/veranstaltung/spielbudenfestival-auf-st-pauli/
CATEGORIES:Festivals | Festspiele
ATTACH;FMTTYPE=image/jpeg:https://www.kultur4all.de/wp-content/uploads/2025/03/Festival.jpg
END:VEVENT
BEGIN:VEVENT
DTSTART;TZID=Europe/Berlin:20260727T000000
DTEND;TZID=Europe/Berlin:20260727T235959
DTSTAMP:20260422T125930
CREATED:20240805T133755Z
LAST-MODIFIED:20251116T224855Z
UID:31100-1785110400-1785196799@www.kultur4all.de
SUMMARY:† Wolfgang Rihm – Todestag
DESCRIPTION:† 27.07.2024 \n\n\n01. Todestag. \n\n\nOstdeutschland\, Sachsen\n\n\n\nWikipedia
URL:https://www.kultur4all.de/veranstaltung/wolfgang-rihm/
END:VEVENT
BEGIN:VEVENT
DTSTART;TZID=Europe/Berlin:20260728T000000
DTEND;TZID=Europe/Berlin:20260728T235959
DTSTAMP:20260422T125930
CREATED:20241203T082043Z
LAST-MODIFIED:20251116T224748Z
UID:33141-1785196800-1785283199@www.kultur4all.de
SUMMARY:† Johann Sebastian Bach – Todestag
DESCRIPTION:† 28.07.1750 \n\n\n275. Todestag. \n\n\nOstdeutschland\, Sachsen\n\n\n\nWikipedia
URL:https://www.kultur4all.de/veranstaltung/%e2%80%a0-johann-sebastian-bach-todestag/
END:VEVENT
BEGIN:VEVENT
DTSTART;TZID=Europe/Berlin:20260729T000000
DTEND;TZID=Europe/Berlin:20260729T235959
DTSTAMP:20260422T125930
CREATED:20240628T230000Z
LAST-MODIFIED:20260127T201036Z
UID:29855-1785283200-1785369599@www.kultur4all.de
SUMMARY:† Erich Kästner
DESCRIPTION:51. Todestag. \n\n\nOstdeutschland\, Sachsen\n\n\n\nWikipedia\n\n\n\n\n\n\n\n\n\n\n\n\n\n\nEmil und die DetektiveLive auf der BühneTickets: eventim.de* | Adticket.de* | Reservix.de*
URL:https://www.kultur4all.de/veranstaltung/%e2%80%a0-erich-kaestner/
END:VEVENT
BEGIN:VEVENT
DTSTART;TZID=Europe/Berlin:20260731T000000
DTEND;TZID=Europe/Berlin:20260731T235900
DTSTAMP:20260422T125930
CREATED:20240701T230000Z
LAST-MODIFIED:20251116T224540Z
UID:29678-1785456000-1785542340@www.kultur4all.de
SUMMARY:† Waldemar Bonsels – Todestag
DESCRIPTION:† 31.07.1952 \n\n\n73. Todestag. \n\n\nOstdeutschland\, Sachsen\n\n\n\nWikipedia\n\n\n\n\nBuchtipp:Die Biene Maja und ihre AbenteuerAmazon.de* | Thalia.de*
URL:https://www.kultur4all.de/veranstaltung/waldemar-bonsels-2/
END:VEVENT
END:VCALENDAR