BEGIN:VCALENDAR
VERSION:2.0
PRODID:-//Kultur4all - ECPv6.15.20//NONSGML v1.0//EN
CALSCALE:GREGORIAN
METHOD:PUBLISH
X-ORIGINAL-URL:https://www.kultur4all.de
X-WR-CALDESC:Veranstaltungen für Kultur4all
REFRESH-INTERVAL;VALUE=DURATION:PT1H
X-Robots-Tag:noindex
X-PUBLISHED-TTL:PT1H
BEGIN:VTIMEZONE
TZID:Europe/Berlin
BEGIN:DAYLIGHT
TZOFFSETFROM:+0100
TZOFFSETTO:+0200
TZNAME:CEST
DTSTART:20240331T010000
END:DAYLIGHT
BEGIN:STANDARD
TZOFFSETFROM:+0200
TZOFFSETTO:+0100
TZNAME:CET
DTSTART:20241027T010000
END:STANDARD
BEGIN:DAYLIGHT
TZOFFSETFROM:+0100
TZOFFSETTO:+0200
TZNAME:CEST
DTSTART:20250330T010000
END:DAYLIGHT
BEGIN:STANDARD
TZOFFSETFROM:+0200
TZOFFSETTO:+0100
TZNAME:CET
DTSTART:20251026T010000
END:STANDARD
BEGIN:DAYLIGHT
TZOFFSETFROM:+0100
TZOFFSETTO:+0200
TZNAME:CEST
DTSTART:20260329T010000
END:DAYLIGHT
BEGIN:STANDARD
TZOFFSETFROM:+0200
TZOFFSETTO:+0100
TZNAME:CET
DTSTART:20261025T010000
END:STANDARD
BEGIN:DAYLIGHT
TZOFFSETFROM:+0100
TZOFFSETTO:+0200
TZNAME:CEST
DTSTART:20270328T010000
END:DAYLIGHT
BEGIN:STANDARD
TZOFFSETFROM:+0200
TZOFFSETTO:+0100
TZNAME:CET
DTSTART:20271031T010000
END:STANDARD
END:VTIMEZONE
BEGIN:VEVENT
DTSTART;TZID=Europe/Berlin:20250911T000000
DTEND;TZID=Europe/Berlin:20260416T235959
DTSTAMP:20260420T214322
CREATED:20260326T110018Z
LAST-MODIFIED:20260326T110019Z
UID:35043-1757548800-1776383999@www.kultur4all.de
SUMMARY:Konzert | Miss Allie
DESCRIPTION:Paradiesvogel Tour 2025/2026\n\n\nFestivals | Festspiele\, Tanz | Ballett\n\n\n\n\nHandgemachte Gitarren-Musik mit unschuldiger Stimme und humorvollen Texten. Liedermacherin Miss Allie ist auf Paradiesvogel Tour. \n\n\n\n\nTickets*\n\n\n\nMusik kaufen*\n\n\n\n\nOrte\n\n\n\nHamburg \n\n\n\nBremen \n\n\n\nHannover \n\n\n\nOsnabrück \n\n\n\nSaarbrücken \n\n\n\nMannheim \n\n\n\nMainz \n\n\n\nBerlin \n\n\n\nLeipzig \n\n\n\nMünster \n\n\n\nDortmund \n\n\n\nKöln \n\n\n\nDresden \n\n\n\nErfurt \n\n\n\nUlm \n\n\n\nOffenbach am Main \n\n\n\nErlangen \n\n\n\nLübeck
URL:https://www.kultur4all.de/veranstaltung/konzert-miss-allie/
CATEGORIES:Konzerte
END:VEVENT
BEGIN:VEVENT
DTSTART;TZID=Europe/Berlin:20251024T000000
DTEND;TZID=Europe/Berlin:20260802T235959
DTSTAMP:20260420T214322
CREATED:20250926T112934Z
LAST-MODIFIED:20260108T063911Z
UID:36519-1761264000-1785715199@www.kultur4all.de
SUMMARY:Cirque du Soleil ALIZÉ - Eine Reise in das Unsichtbare
DESCRIPTION:Tickets*\n\n\n\n\nDie Weltpremiere von Cirque du Soleil ALIZÉ – Eine Reise in das Unsichtbare findet am 20. November 2025 in Berlin statt. Im Theater am Potsdamer Platz bleibt die Zirkus-Show dann bis August 2026 zu Gast. Das Konzept aus Zirkus\, Akrobatik\, Live-Musik und phantasievollen Kostümen wird auch in ALIZÉ umgesetzt.
URL:https://www.kultur4all.de/veranstaltung/cirque-du-soleil-alize-eine-reise-in-das-unsichtbare/
CATEGORIES:Show
ATTACH;FMTTYPE=image/jpeg:https://www.kultur4all.de/wp-content/uploads/2025/09/Cirque-du-soleil-Alize.jpg
END:VEVENT
BEGIN:VEVENT
DTSTART;TZID=Europe/Berlin:20251112T000000
DTEND;TZID=Europe/Berlin:20260830T235959
DTSTAMP:20260420T214322
CREATED:20251008T130604Z
LAST-MODIFIED:20260108T064029Z
UID:36664-1762905600-1788134399@www.kultur4all.de
SUMMARY:Tarzan – Das Musical
DESCRIPTION:Wiederaufnahme in Hamburg im Herbst 2025\n\n\n\n\n\nAlexander Klaws begeisterte erneut in der Rolle des Tarzans bei der Premiere in Hamburg. \nFoto: Johan Persson\n\n\n\nPremiere am Donnerstag 20. November 2025 \n\n\n\nTickets\n\n\n\n\nEventim.de*\n\n\n\n\nOrt\n\n\n\n\nNeue Flora\n\n\n\n\n+ Musik +Tarzan-Deutsche Originalversion des MusicalsMusik und Texte: Phil CollinsAmazon.de*\n\n\n\n\nTarzan kommt\, Hercules geht
URL:https://www.kultur4all.de/veranstaltung/tarzan-das-musical/
CATEGORIES:Musicals
ATTACH;FMTTYPE=image/jpeg:https://www.kultur4all.de/wp-content/uploads/2025/10/JPG-72-dpi-RGB-Tar_Klaws_2025-1.jpg
END:VEVENT
BEGIN:VEVENT
DTSTART;TZID=Europe/Berlin:20251119T000000
DTEND;TZID=Europe/Berlin:20260426T235959
DTSTAMP:20260420T214322
CREATED:20250820T152117Z
LAST-MODIFIED:20260108T064220Z
UID:33798-1763510400-1777247999@www.kultur4all.de
SUMMARY:Holiday On Ice
DESCRIPTION:Cinema of Dreams 2025/2026\n\n\nFestivals | Festspiele\, Tanz | Ballett\n\n\n\n\nTickets\n\n\n\n\neventim.de*\n\n\n\n\nHoliday On Ice gibt es schon seit über achtzig Jahren. In diesem Jahr heißt die Show Cinema of Dreams bietet damit das altbewährte Konzept: das große Schaulaufen in spektakulären Kostümen\, mit akrobatischen Einlagen\, Musik und verschiedenen Gaststars. \n\n\n\nOrte\n\n\n\n\nGrefrath\n\n\n\nKiel\n\n\n\nRostock\n\n\n\nDresden\n\n\n\nLeipzig\n\n\n\nMünster\n\n\n\nMünchen\n\n\n\nFrankfurt am Main\n\n\n\nDortmund\n\n\n\nStuttgart\n\n\n\nMannheim\n\n\n\nHamburg\n\n\n\nBremen\n\n\n\nBerlin\n\n\n\nZwickau\n\n\n\nKöln\n\n\n\nGöttingen\n\n\n\nMagdeburg\n\n\n\nErfurt\n\n\n\nHannover\n\n\n\nDüsseldorf
URL:https://www.kultur4all.de/veranstaltung/holiday-on-ice/
CATEGORIES:Show
ATTACH;FMTTYPE=image/jpeg:https://www.kultur4all.de/wp-content/uploads/2025/08/Holiday-on-ice-kultur4all.de_.jpg
END:VEVENT
BEGIN:VEVENT
DTSTART;TZID=Europe/Berlin:20251223T000000
DTEND;TZID=Europe/Berlin:20260405T235959
DTSTAMP:20260420T214322
CREATED:20251013T104513Z
LAST-MODIFIED:20260108T064336Z
UID:36756-1766448000-1775433599@www.kultur4all.de
SUMMARY:Ballet Revolucíon
DESCRIPTION:Deutschland-Tour 2025/2026\n\n\n\nFoto: Johan Persson\n\n\n\n\n\nBallet Revolution zeigt\, dass Pop-Musik und klassisches Ballett sehr wohl gut zusammenpassen. Die kubanischen Tänzer und Tänzerinnen mischen weitere Tanzstile\, wie Streetdance\, Contempory und Latin Moves in ihrem Programm \n\n\n\n\nTickets*
URL:https://www.kultur4all.de/veranstaltung/ballet-revolucion/
CATEGORIES:Tanz | Ballett
ATTACH;FMTTYPE=image/jpeg:https://www.kultur4all.de/wp-content/uploads/2025/10/ballet-revolucion-foto-07-credit-johan-persson-fuer-web.jpg
END:VEVENT
BEGIN:VEVENT
DTSTART;TZID=Europe/Berlin:20260103T000000
DTEND;TZID=Europe/Berlin:20261231T235959
DTSTAMP:20260420T214322
CREATED:20260103T135517Z
LAST-MODIFIED:20260104T185542Z
UID:37874-1767398400-1798761599@www.kultur4all.de
SUMMARY:Opernklassiker | Die Zauberflöte von Wolfgang Amadeus Mozart
DESCRIPTION:Märchenhafte Oper rund um die böse Königin der Nacht\, dem fröhlichen Papageno mit seiner Papagena\, dem Prinzen Tamino\, der sich in Tamina verliebt und den Fürsten Sarastro und dessen Oberaufseher Monostatos. \n\n\n\nEs geht um Liebe\, Entführung\, Macht\, Freundschaft und drei Prüfungen\, die bestanden werden müssen. \n\n\n\nLibretto: Emanuel Schikaneder \n\n\n\nTickets\n\n\n\n\nEventim.de*\n\n\n\nAdticket.de*\n\n\n\nReservix.de*\n\n\n\nFestivals | Festspiele\, Tanz | Ballett\n\n\nQuelle: www.kultur4all.de
URL:https://www.kultur4all.de/veranstaltung/opernklassiker-die-zauberfloete-von-wolfgang-amadeus-mozart/
CATEGORIES:Oper | Operette
END:VEVENT
BEGIN:VEVENT
DTSTART;TZID=Europe/Berlin:20260109T000000
DTEND;TZID=Europe/Berlin:20260911T235959
DTSTAMP:20260420T214322
CREATED:20260128T133045Z
LAST-MODIFIED:20260128T133154Z
UID:38184-1767916800-1789171199@www.kultur4all.de
SUMMARY:Breakin' Mozart
DESCRIPTION:Klassik Meets Breakdance\n\n\n\n\n\nBy Lorenzo Duaso\n\n\n\nPasst das zusammen? Opernregisseur Christoph Hagel und die Breakdance Gruppe DDC bringen Headspins\, Windmills\, Menuett und Mozarts Musik auf die Bühne.  \n\n\n\nWer war nochmal Mozart? Ja der: Wolfgang Amadeus Mozart – Komponist\, Wunderkind\, Bruder von Nanerl\, Wiener. Jung gestorben\, aber seine Musik lebt noch heute.  \n\n\n\n\nTickets* \n\n\n\nFestivals | Festspiele\, Tanz | Ballett\n\n\nQuelle: www.kultur4all.de
URL:https://www.kultur4all.de/veranstaltung/breakin-mozart/
CATEGORIES:Show
ATTACH;FMTTYPE=image/jpeg:https://www.kultur4all.de/wp-content/uploads/2026/01/Breakin-Mozart-Pressebild-2-webversion.jpg
END:VEVENT
BEGIN:VEVENT
DTSTART;TZID=Europe/Berlin:20260220T000000
DTEND;TZID=Europe/Berlin:20260301T235959
DTSTAMP:20260420T214322
CREATED:20251111T102012Z
LAST-MODIFIED:20260109T074133Z
UID:37111-1771545600-1772409599@www.kultur4all.de
SUMMARY:Musikwoche Hitzacker
DESCRIPTION:Unter dem Motto „Geheime Botschaften“ findet das vierzigste Jubiläum der Musikwoche Hitzacker statt.  \n\n\n\nHighlights des Programms sind der musikalische Partner Antoine Tamestit. Der Bratschist wird in verschiedenen Konstellationen zu hören sein. Das Mahler Chamber Orchestra tritt in wechselnden\, kleineren und größeren Besetzungen auf. Programmatisch steht „Das musikalische Opfer“ von Johann Sebastian im Mittelpunkt.  \n\n\n\n\nWebsite Musikwoche Hitzacker
URL:https://www.kultur4all.de/veranstaltung/musikwoche-hitzacker/
CATEGORIES:Festivals | Festspiele
ATTACH;FMTTYPE=image/jpeg:https://www.kultur4all.de/wp-content/uploads/2025/11/Musikwoche-Hitzacker-kultur4all.de_.jpg
END:VEVENT
BEGIN:VEVENT
DTSTART;TZID=Europe/Berlin:20260226T000000
DTEND;TZID=Europe/Berlin:20260307T235959
DTSTAMP:20260420T214322
CREATED:20260123T164800Z
LAST-MODIFIED:20260123T164816Z
UID:38363-1772064000-1772927999@www.kultur4all.de
SUMMARY:TANZMAINZ FESTIVAL UPDATE #5
DESCRIPTION:Neben Gastspielen werden Choreografien von ehemaligen Mainzer Tänzerinnen gezeigt. Außerdem gibt es Workshops\, ein Improformat\, Einführungen und eine Tanzparty. \n\n\n\n\nWebsite\n\n\n\n\n\nStaatstheater Mainz
URL:https://www.kultur4all.de/veranstaltung/tanzmainz-festival-update-5/
CATEGORIES:Festivals | Festspiele,Tanz | Ballett
END:VEVENT
BEGIN:VEVENT
DTSTART;TZID=Europe/Berlin:20260227T000000
DTEND;TZID=Europe/Berlin:20260423T235959
DTSTAMP:20260420T214322
CREATED:20250804T094425Z
LAST-MODIFIED:20260126T185011Z
UID:35778-1772150400-1776988799@www.kultur4all.de
SUMMARY:Festival Sol Gabetta & Friends
DESCRIPTION:Konzerthaus Dortmund\n\n\nFestivals | Festspiele\, Tanz | Ballett\n\n\n\n\nKonzerte rund um die Cellistin Sol Gabetta. Es gibt Kammermusik\, große Orchesterwerke und auch eine öffentliche Masterclass.  \n\n\n\n\nWebsite – Programm\n\n\n\nTickets*\n\n\n\n\n\nKonzerthaus Dortmund
URL:https://www.kultur4all.de/veranstaltung/festival-sol-gabetta-friends/
CATEGORIES:Festivals | Festspiele,Konzerte
ATTACH;FMTTYPE=image/jpeg:https://www.kultur4all.de/wp-content/uploads/2025/08/Konzerthaus-Dortmund-Webversion-kultur4all.de_.jpg
END:VEVENT
BEGIN:VEVENT
DTSTART;TZID=Europe/Berlin:20260301T000000
DTEND;TZID=Europe/Berlin:20260301T235959
DTSTAMP:20260420T214322
CREATED:20260228T230100Z
LAST-MODIFIED:20260216T063406Z
UID:38551-1772323200-1772409599@www.kultur4all.de
SUMMARY:* Frédéric Chopin – Geburtstag
DESCRIPTION:* 01.03.1810 \n\n\n\n216. Geburtstag. \n\n\nNorddeutschland\n\n\n\nWikipedia\n\n\n\n\nFestivals | Festspiele\, Tanz | Ballett\n\n\nQuelle: www.kultur4all.de
URL:https://www.kultur4all.de/veranstaltung/frederic-chopin-geburtstag/
CATEGORIES:Geburtstag
ATTACH;FMTTYPE=image/jpeg:https://www.kultur4all.de/wp-content/uploads/2026/02/Geburtstag-Frederic-Chopin-Kultur4all.de_.jpg
END:VEVENT
BEGIN:VEVENT
DTSTART;TZID=Europe/Berlin:20260301T000000
DTEND;TZID=Europe/Berlin:20260331T235959
DTSTAMP:20260420T214322
CREATED:20260225T125114Z
LAST-MODIFIED:20260225T125126Z
UID:38616-1772323200-1775001599@www.kultur4all.de
SUMMARY:SuedLese
DESCRIPTION:Literaturtage im Süden Hamburgs\n\n\n\n\n\nIn diesem Jahr mit dem Schwerpunkt auf Debütant*innen. An den folgenden Orten findet die SuedLese statt: Neugraben\, Moorburg\, Wilhelmsburg\, Heimfeld und Harburg. \n\n\n\n\nProgramm\n\n\n\n\nTickets\n\n\n\nfür einzelne Veranstaltungstermine \n\n\n\n\nAdticket.de*\n\n\n\nReservix.de*
URL:https://www.kultur4all.de/veranstaltung/suedlese/
CATEGORIES:Lesungen & mehr
ATTACH;FMTTYPE=image/jpeg:https://www.kultur4all.de/wp-content/uploads/2026/02/SuedLese.jpg
END:VEVENT
BEGIN:VEVENT
DTSTART;TZID=Europe/Berlin:20260302T000000
DTEND;TZID=Europe/Berlin:20260302T235959
DTSTAMP:20260420T214322
CREATED:20241021T140349Z
LAST-MODIFIED:20251117T140610Z
UID:32341-1772409600-1772495999@www.kultur4all.de
SUMMARY:* Simone Young – Geburtstag
DESCRIPTION:* 02.03.1961 \n\n\n65. Geburtstag. \n\n\nNorddeutschland\n\n\n\nWikipedia
URL:https://www.kultur4all.de/veranstaltung/simone-young-geburtstag/
ATTACH;FMTTYPE=image/jpeg:https://www.kultur4all.de/wp-content/uploads/2024/10/Geburtstag-Simone-Young-www.kultur4all.de_.jpg
END:VEVENT
BEGIN:VEVENT
DTSTART;TZID=Europe/Berlin:20260302T000000
DTEND;TZID=Europe/Berlin:20260302T235959
DTSTAMP:20260420T214322
CREATED:20260301T230100Z
LAST-MODIFIED:20260302T073745Z
UID:38654-1772409600-1772495999@www.kultur4all.de
SUMMARY:* Kurt Weill – Geburtstag
DESCRIPTION:* 02.03.1900 \n\n\n\n126. Geburtstag. \n\n\nNorddeutschland\n\n\n\nWikipedia\n\n\n\n\nFestivals | Festspiele\, Tanz | Ballett\n\n\nQuelle: www.kultur4all.de
URL:https://www.kultur4all.de/veranstaltung/kurt-weill-geburtstag/
CATEGORIES:Geburtstag
ATTACH;FMTTYPE=image/jpeg:https://www.kultur4all.de/wp-content/uploads/2026/03/Geburtstag-Kurt-Weill-Kultur4all.de_.jpg
END:VEVENT
BEGIN:VEVENT
DTSTART;TZID=Europe/Berlin:20260302T000000
DTEND;TZID=Europe/Berlin:20260302T235959
DTSTAMP:20260420T214322
CREATED:20260301T230200Z
LAST-MODIFIED:20260301T200357Z
UID:38657-1772409600-1772495999@www.kultur4all.de
SUMMARY:* John Irving – Geburtstag
DESCRIPTION:* 02.03.1942 \n\n\n\n84. Geburtstag. \n\n\nNorddeutschland\n\n\n\nWikipedia\n\n\n\n\nFestivals | Festspiele\, Tanz | Ballett\n\n\nQuelle: www.kultur4all.de
URL:https://www.kultur4all.de/veranstaltung/john-irving-geburtstag/
CATEGORIES:Geburtstag
ATTACH;FMTTYPE=image/jpeg:https://www.kultur4all.de/wp-content/uploads/2026/03/Geburtstag-John-Irving-Kultur4all.de_.jpg
END:VEVENT
BEGIN:VEVENT
DTSTART;TZID=Europe/Berlin:20260303T000000
DTEND;TZID=Europe/Berlin:20260303T235959
DTSTAMP:20260420T214322
CREATED:20260302T230100Z
LAST-MODIFIED:20260301T201222Z
UID:38660-1772496000-1772582399@www.kultur4all.de
SUMMARY:* Gudrun Pausewang – Geburtstag
DESCRIPTION:* 03.03.1928 \n\n\n\n98. Geburtstag. \n\n\nNorddeutschland\n\n\n\nWikipedia\n\n\n\n\nFestivals | Festspiele\, Tanz | Ballett\n\n\nQuelle: www.kultur4all.de
URL:https://www.kultur4all.de/veranstaltung/gudrun-pausewang-geburtstag/
CATEGORIES:Geburtstag
ATTACH;FMTTYPE=image/jpeg:https://www.kultur4all.de/wp-content/uploads/2026/03/Geburtstag-Gudrun-Pausewang-Kultur4all.de_.jpg
END:VEVENT
BEGIN:VEVENT
DTSTART;TZID=Europe/Berlin:20260303T000000
DTEND;TZID=Europe/Berlin:20260531T235959
DTSTAMP:20260420T214322
CREATED:20251114T142248Z
LAST-MODIFIED:20251114T142248Z
UID:37190-1772496000-1780271999@www.kultur4all.de
SUMMARY:BELLO! by Fabbrica C
DESCRIPTION:Das Zirkuskollektiv Fabbrica C aus Italien zeigt im Chamäleon Berlin sein Stück BELLO! aus fließender Akrobatik und Schauspiel. \n\n\n\n\nTickets\n\n\n\n\n\nChamäleon Berlin
URL:https://www.kultur4all.de/veranstaltung/bello-by-fabbrica-c/
ATTACH;FMTTYPE=image/jpeg:https://www.kultur4all.de/wp-content/uploads/2025/11/Bello-by-Fabbcrica-C-kultur4all.de_.jpg
END:VEVENT
BEGIN:VEVENT
DTSTART;TZID=Europe/Berlin:20260304T000000
DTEND;TZID=Europe/Berlin:20260304T235959
DTSTAMP:20260420T214322
CREATED:20241021T085607Z
LAST-MODIFIED:20251117T140502Z
UID:32336-1772582400-1772668799@www.kultur4all.de
SUMMARY:* Bernard Haitink – Geburtstag
DESCRIPTION:* 04.03.1929 \n\n\n97. Geburtstag. \n\n\nNorddeutschland\n\n\n\nWikipedia
URL:https://www.kultur4all.de/veranstaltung/bernard-haitink-geburtstag/
ATTACH;FMTTYPE=image/jpeg:https://www.kultur4all.de/wp-content/uploads/2024/10/Geburtstag-Bernard-Haitink-www.kultur4all.de_.jpg
END:VEVENT
BEGIN:VEVENT
DTSTART;TZID=Europe/Berlin:20260305T000000
DTEND;TZID=Europe/Berlin:20260305T235959
DTSTAMP:20260420T214322
CREATED:20260305T124919Z
LAST-MODIFIED:20260311T125209Z
UID:38722-1772668800-1772755199@www.kultur4all.de
SUMMARY:* Heitor Villa-Lobos – Geburtstag
DESCRIPTION:* 05.03.1887 \n\n\n\n139. Geburtstag. \n\n\nNorddeutschland\n\n\n\nWikipedia\n\n\n\n\nFestivals | Festspiele\, Tanz | Ballett\n\n\nQuelle: www.kultur4all.de
URL:https://www.kultur4all.de/veranstaltung/heitor-villa-lobos-geburtstag/
CATEGORIES:Geburtstag
ATTACH;FMTTYPE=image/jpeg:https://www.kultur4all.de/wp-content/uploads/2026/03/Geburtstag-Heitor-Villa-Lobos-Kultur4all.de_.jpg
END:VEVENT
BEGIN:VEVENT
DTSTART;TZID=Europe/Berlin:20260306T000000
DTEND;TZID=Europe/Berlin:20260306T235959
DTSTAMP:20260420T214322
CREATED:20260305T230100Z
LAST-MODIFIED:20260301T201732Z
UID:38667-1772755200-1772841599@www.kultur4all.de
SUMMARY:* Günther Kunert – Geburtstag
DESCRIPTION:* 06.03.1929 \n\n\n\n97. Geburtstag. \n\n\nNorddeutschland\n\n\n\nWikipedia\n\n\n\n\nFestivals | Festspiele\, Tanz | Ballett\n\n\nQuelle: www.kultur4all.de
URL:https://www.kultur4all.de/veranstaltung/guenther-kunert-geburtstag/
CATEGORIES:Geburtstag
ATTACH;FMTTYPE=image/jpeg:https://www.kultur4all.de/wp-content/uploads/2026/03/Geburtstag-Guenther-Kunert-Kultur4all.de_.jpg
END:VEVENT
BEGIN:VEVENT
DTSTART;TZID=Europe/Berlin:20260307T000000
DTEND;TZID=Europe/Berlin:20260307T235959
DTSTAMP:20260420T214322
CREATED:20250124T102428Z
LAST-MODIFIED:20251117T140353Z
UID:33742-1772841600-1772927999@www.kultur4all.de
SUMMARY:* Maurice Ravel – Geburtstag
DESCRIPTION:* 07.03.1875 \n\n\n151. Geburtstag. \n\n\nNorddeutschland\n\n\n\nWikipedia
URL:https://www.kultur4all.de/veranstaltung/maurice-ravel-geburtstag/
ATTACH;FMTTYPE=image/jpeg:https://www.kultur4all.de/wp-content/uploads/2025/01/Geburtstag-maurice-Ravel-www.kultur4all.de_.jpg
END:VEVENT
BEGIN:VEVENT
DTSTART;TZID=Europe/Berlin:20260307T000000
DTEND;TZID=Europe/Berlin:20260307T235959
DTSTAMP:20260420T214322
CREATED:20260306T230100Z
LAST-MODIFIED:20260302T185943Z
UID:38674-1772841600-1772927999@www.kultur4all.de
SUMMARY:* Alessandro Manzoni – Geburtstag
DESCRIPTION:* 07.03.1785 \n\n\n\n241. Geburtstag. \n\n\nNorddeutschland\n\n\n\nWikipedia\n\n\n\n\n\n\nDie Verlobten von Alessandro Manzoni\n\n\n\nFestivals | Festspiele\, Tanz | Ballett\n\n\nQuelle: www.kultur4all.de
URL:https://www.kultur4all.de/veranstaltung/alessandro-manzoni-geburtstag/
CATEGORIES:Geburtstag
ATTACH;FMTTYPE=image/jpeg:https://www.kultur4all.de/wp-content/uploads/2026/03/Geburtstag-Alessandro-Manzoni-Kultur4all.de_.jpg
END:VEVENT
BEGIN:VEVENT
DTSTART;TZID=Europe/Berlin:20260307T200000
DTEND;TZID=Europe/Berlin:20260307T220000
DTSTAMP:20260420T214322
CREATED:20260108T084513Z
LAST-MODIFIED:20260108T084515Z
UID:37982-1772913600-1772920800@www.kultur4all.de
SUMMARY:Sophie & ich
DESCRIPTION:Besetzung\n\n\n\nLara Henneberger (Sophie Scholl) \n\n\n\nKristina Schleicher (Traudl Humps) \n\n\n\nThomas Parr (Live-Musik) \n\n\n\nDeutsche Kammerschauspiele \n\n\n\nRegie\n\n\n\nAnnette Greve \n\n\n\nTickets\n\n\n\nwww.ticket-regional.de/tum-ahrensburg \n\n\n\n\n\n\n\n\nAlfred-Rust-Saal Ahrensburg\n\n\n\n\nQuelle: www.kultur4all.de
URL:https://www.kultur4all.de/veranstaltung/sophie-ich/
LOCATION:Alfred-Rust-Saal\, Wulfsdorfer Weg 71\, Ahrensburg\, 22926
CATEGORIES:Ahrensburg – Veranstaltungen,Theater
END:VEVENT
BEGIN:VEVENT
DTSTART;TZID=Europe/Berlin:20260311T000000
DTEND;TZID=Europe/Berlin:20260311T235959
DTSTAMP:20260420T214322
CREATED:20260310T230100Z
LAST-MODIFIED:20260307T152150Z
UID:38695-1773187200-1773273599@www.kultur4all.de
SUMMARY:† Heinrich Mann – Todestag
DESCRIPTION:† 11.03.1950 \n\n\n76. Todestag. \n\n\nNorddeutschland\n\n\n\nWikipedia\n\n\n\nFestivals | Festspiele\, Tanz | Ballett\n\n\nQuelle: www.kultur4all.de
URL:https://www.kultur4all.de/veranstaltung/%e2%80%a0-heinrich-mann-todestag/
CATEGORIES:Todestag
END:VEVENT
BEGIN:VEVENT
DTSTART;TZID=Europe/Berlin:20260311T000000
DTEND;TZID=Europe/Berlin:20260311T235959
DTSTAMP:20260420T214322
CREATED:20260311T065253Z
LAST-MODIFIED:20260311T065256Z
UID:38719-1773187200-1773273599@www.kultur4all.de
SUMMARY:* Janosch (Horst Eckert) – Geburtstag
DESCRIPTION:* 11.03.1931 \n\n\n\n95. Geburtstag. \n\n\nNorddeutschland\n\n\n\nWikipedia\n\n\n\n\n\n+ Kultur4all-Tipp +Oh\, wie schön ist PanamaAmazon.de*\n\n\nFestivals | Festspiele\, Tanz | Ballett\n\n\nQuelle: www.kultur4all.de
URL:https://www.kultur4all.de/veranstaltung/janosch-horst-eckert-geburtstag/
CATEGORIES:Geburtstag
ATTACH;FMTTYPE=image/jpeg:https://www.kultur4all.de/wp-content/uploads/2026/03/Geburtstag-Janosch-Kultur4all.de_.jpg
END:VEVENT
BEGIN:VEVENT
DTSTART;TZID=Europe/Berlin:20260312T000000
DTEND;TZID=Europe/Berlin:20260312T235959
DTSTAMP:20260420T214322
CREATED:20250312T000000Z
LAST-MODIFIED:20251117T140225Z
UID:30290-1773273600-1773359999@www.kultur4all.de
SUMMARY:† Yehudi Menuhin – Todestag
DESCRIPTION:27. Todestag. \n\n\nNorddeutschland\n\n\n\nWikipedia
URL:https://www.kultur4all.de/veranstaltung/%e2%80%a0-yehudi-menuhin/
END:VEVENT
BEGIN:VEVENT
DTSTART;TZID=Europe/Berlin:20260312T000000
DTEND;TZID=Europe/Berlin:20260312T235959
DTSTAMP:20260420T214322
CREATED:20260311T230100Z
LAST-MODIFIED:20260309T160721Z
UID:38700-1773273600-1773359999@www.kultur4all.de
SUMMARY:* Liza Minelli – Geburtstag
DESCRIPTION:* 12.03.1946 \n\n\n\n80. Geburtstag. \n\n\nNorddeutschland\n\n\n\nWikipedia\n\n\n\n\n\nKultur4all.de-Tipp:Liza Minelli als Sally Bowles in CabaretDVD bei Amazon.de* | Music unlimited bei Amazon.de* | jpc*\n\n\nFestivals | Festspiele\, Tanz | Ballett\n\n\nQuelle: www.kultur4all.de
URL:https://www.kultur4all.de/veranstaltung/liza-minelli-geburtstag/
CATEGORIES:Geburtstag
ATTACH;FMTTYPE=image/jpeg:https://www.kultur4all.de/wp-content/uploads/2026/03/Geburtstag-Liza-Minelli-Kultur4all.de_.jpg
END:VEVENT
BEGIN:VEVENT
DTSTART;TZID=Europe/Berlin:20260313T000000
DTEND;TZID=Europe/Berlin:20260313T235959
DTSTAMP:20260420T214322
CREATED:20250314T100338Z
LAST-MODIFIED:20251117T140142Z
UID:34456-1773360000-1773446399@www.kultur4all.de
SUMMARY:† Sofia Gubaidulina – Todestag
DESCRIPTION:† 13.03.2025 \n\n\n01. Todestag. \n\n\nNorddeutschland\n\n\n\nWikipedia
URL:https://www.kultur4all.de/veranstaltung/%e2%80%a0-sofia-gubaidulina-todestag/
END:VEVENT
BEGIN:VEVENT
DTSTART;TZID=Europe/Berlin:20260313T000000
DTEND;TZID=Europe/Berlin:20260313T235959
DTSTAMP:20260420T214322
CREATED:20260312T230900Z
LAST-MODIFIED:20260309T161346Z
UID:38703-1773360000-1773446399@www.kultur4all.de
SUMMARY:* Wolfgang Rihm – Geburtstag
DESCRIPTION:* 13.03.1952 \n\n\n\n74. Geburtstag. \n\n\nNorddeutschland\n\n\n\nWikipedia\n\n\n\n\nFestivals | Festspiele\, Tanz | Ballett\n\n\nQuelle: www.kultur4all.de
URL:https://www.kultur4all.de/veranstaltung/wolfgang-rihm-geburtstag/
CATEGORIES:Geburtstag
ATTACH;FMTTYPE=image/jpeg:https://www.kultur4all.de/wp-content/uploads/2026/03/Geburtstag-Wolfgang-Rihm-Kultur4all.de_.jpg
END:VEVENT
BEGIN:VEVENT
DTSTART;TZID=Europe/Berlin:20260313T000000
DTEND;TZID=Europe/Berlin:20260322T235959
DTSTAMP:20260420T214322
CREATED:20260113T142014Z
LAST-MODIFIED:20260113T142038Z
UID:38113-1773360000-1774223999@www.kultur4all.de
SUMMARY:Festspielfrühling Rügen
DESCRIPTION: Frühjahrsfestival unter der künstlerischen Leitung von dem Bratschisten Timothy Ridout.  \n\n\n\n\nProgramm
URL:https://www.kultur4all.de/veranstaltung/festspielfruehling-ruegen/
CATEGORIES:Festivals | Festspiele
END:VEVENT
END:VCALENDAR