BEGIN:VCALENDAR
VERSION:2.0
PRODID:-//Kultur4all - ECPv6.15.20//NONSGML v1.0//EN
CALSCALE:GREGORIAN
METHOD:PUBLISH
X-WR-CALNAME:Kultur4all
X-ORIGINAL-URL:https://www.kultur4all.de
X-WR-CALDESC:Veranstaltungen für Kultur4all
REFRESH-INTERVAL;VALUE=DURATION:PT1H
X-Robots-Tag:noindex
X-PUBLISHED-TTL:PT1H
BEGIN:VTIMEZONE
TZID:Europe/Berlin
BEGIN:DAYLIGHT
TZOFFSETFROM:+0100
TZOFFSETTO:+0200
TZNAME:CEST
DTSTART:20240331T010000
END:DAYLIGHT
BEGIN:STANDARD
TZOFFSETFROM:+0200
TZOFFSETTO:+0100
TZNAME:CET
DTSTART:20241027T010000
END:STANDARD
BEGIN:DAYLIGHT
TZOFFSETFROM:+0100
TZOFFSETTO:+0200
TZNAME:CEST
DTSTART:20250330T010000
END:DAYLIGHT
BEGIN:STANDARD
TZOFFSETFROM:+0200
TZOFFSETTO:+0100
TZNAME:CET
DTSTART:20251026T010000
END:STANDARD
BEGIN:DAYLIGHT
TZOFFSETFROM:+0100
TZOFFSETTO:+0200
TZNAME:CEST
DTSTART:20260329T010000
END:DAYLIGHT
BEGIN:STANDARD
TZOFFSETFROM:+0200
TZOFFSETTO:+0100
TZNAME:CET
DTSTART:20261025T010000
END:STANDARD
BEGIN:DAYLIGHT
TZOFFSETFROM:+0100
TZOFFSETTO:+0200
TZNAME:CEST
DTSTART:20270328T010000
END:DAYLIGHT
BEGIN:STANDARD
TZOFFSETFROM:+0200
TZOFFSETTO:+0100
TZNAME:CET
DTSTART:20271031T010000
END:STANDARD
END:VTIMEZONE
BEGIN:VEVENT
DTSTART;TZID=Europe/Berlin:20250327T000000
DTEND;TZID=Europe/Berlin:20260109T235959
DTSTAMP:20260420T233925
CREATED:20250310T115802Z
LAST-MODIFIED:20251027T102532Z
UID:30707-1743033600-1768003199@www.kultur4all.de
SUMMARY:Tour | The Dark Tenor
DESCRIPTION:Rock Meets Klassik\n\n\n\nDer klassisch ausgebildete Tenor Billy Andrews verbindet Rock mit Klassik. Eins der Highlights seiner Konzerte ist die „Ode an die Freude“ von Ludwig van Beethoven (Musik) und Text von Friedrich Schiller in seiner rockigen Version. \n\n\n\nTouren\n\n\n\nRock Meets Klassik 2025 \n\n\n\nSymphonic Evolution \n\n\n\nWeihnachtszauber \n\n\n\nNeujahrskonzert \n\n\n\n\nTickets*
URL:https://www.kultur4all.de/veranstaltung/tour-the-dark-tenor/
CATEGORIES:Konzerte
ATTACH;FMTTYPE=image/jpeg:https://www.kultur4all.de/wp-content/uploads/2025/03/Events-Sketchnote-1.jpg
END:VEVENT
BEGIN:VEVENT
DTSTART;TZID=Europe/Berlin:20250911T000000
DTEND;TZID=Europe/Berlin:20260416T235959
DTSTAMP:20260420T233925
CREATED:20260326T110018Z
LAST-MODIFIED:20260326T110019Z
UID:35043-1757548800-1776383999@www.kultur4all.de
SUMMARY:Konzert | Miss Allie
DESCRIPTION:Paradiesvogel Tour 2025/2026\n\n\nFestivals | Festspiele\, Tanz | Ballett\n\n\n\n\nHandgemachte Gitarren-Musik mit unschuldiger Stimme und humorvollen Texten. Liedermacherin Miss Allie ist auf Paradiesvogel Tour. \n\n\n\n\nTickets*\n\n\n\nMusik kaufen*\n\n\n\n\nOrte\n\n\n\nHamburg \n\n\n\nBremen \n\n\n\nHannover \n\n\n\nOsnabrück \n\n\n\nSaarbrücken \n\n\n\nMannheim \n\n\n\nMainz \n\n\n\nBerlin \n\n\n\nLeipzig \n\n\n\nMünster \n\n\n\nDortmund \n\n\n\nKöln \n\n\n\nDresden \n\n\n\nErfurt \n\n\n\nUlm \n\n\n\nOffenbach am Main \n\n\n\nErlangen \n\n\n\nLübeck
URL:https://www.kultur4all.de/veranstaltung/konzert-miss-allie/
CATEGORIES:Konzerte
END:VEVENT
BEGIN:VEVENT
DTSTART;TZID=Europe/Berlin:20251024T000000
DTEND;TZID=Europe/Berlin:20260802T235959
DTSTAMP:20260420T233925
CREATED:20250926T112934Z
LAST-MODIFIED:20260108T063911Z
UID:36519-1761264000-1785715199@www.kultur4all.de
SUMMARY:Cirque du Soleil ALIZÉ - Eine Reise in das Unsichtbare
DESCRIPTION:Tickets*\n\n\n\n\nDie Weltpremiere von Cirque du Soleil ALIZÉ – Eine Reise in das Unsichtbare findet am 20. November 2025 in Berlin statt. Im Theater am Potsdamer Platz bleibt die Zirkus-Show dann bis August 2026 zu Gast. Das Konzept aus Zirkus\, Akrobatik\, Live-Musik und phantasievollen Kostümen wird auch in ALIZÉ umgesetzt.
URL:https://www.kultur4all.de/veranstaltung/cirque-du-soleil-alize-eine-reise-in-das-unsichtbare/
CATEGORIES:Show
ATTACH;FMTTYPE=image/jpeg:https://www.kultur4all.de/wp-content/uploads/2025/09/Cirque-du-soleil-Alize.jpg
END:VEVENT
BEGIN:VEVENT
DTSTART;TZID=Europe/Berlin:20251112T000000
DTEND;TZID=Europe/Berlin:20260830T235959
DTSTAMP:20260420T233925
CREATED:20251008T130604Z
LAST-MODIFIED:20260108T064029Z
UID:36664-1762905600-1788134399@www.kultur4all.de
SUMMARY:Tarzan – Das Musical
DESCRIPTION:Wiederaufnahme in Hamburg im Herbst 2025\n\n\n\n\n\nAlexander Klaws begeisterte erneut in der Rolle des Tarzans bei der Premiere in Hamburg. \nFoto: Johan Persson\n\n\n\nPremiere am Donnerstag 20. November 2025 \n\n\n\nTickets\n\n\n\n\nEventim.de*\n\n\n\n\nOrt\n\n\n\n\nNeue Flora\n\n\n\n\n+ Musik +Tarzan-Deutsche Originalversion des MusicalsMusik und Texte: Phil CollinsAmazon.de*\n\n\n\n\nTarzan kommt\, Hercules geht
URL:https://www.kultur4all.de/veranstaltung/tarzan-das-musical/
CATEGORIES:Musicals
ATTACH;FMTTYPE=image/jpeg:https://www.kultur4all.de/wp-content/uploads/2025/10/JPG-72-dpi-RGB-Tar_Klaws_2025-1.jpg
END:VEVENT
BEGIN:VEVENT
DTSTART;TZID=Europe/Berlin:20251119T000000
DTEND;TZID=Europe/Berlin:20260426T235959
DTSTAMP:20260420T233925
CREATED:20250820T152117Z
LAST-MODIFIED:20260108T064220Z
UID:33798-1763510400-1777247999@www.kultur4all.de
SUMMARY:Holiday On Ice
DESCRIPTION:Cinema of Dreams 2025/2026\n\n\nFestivals | Festspiele\, Tanz | Ballett\n\n\n\n\nTickets\n\n\n\n\neventim.de*\n\n\n\n\nHoliday On Ice gibt es schon seit über achtzig Jahren. In diesem Jahr heißt die Show Cinema of Dreams bietet damit das altbewährte Konzept: das große Schaulaufen in spektakulären Kostümen\, mit akrobatischen Einlagen\, Musik und verschiedenen Gaststars. \n\n\n\nOrte\n\n\n\n\nGrefrath\n\n\n\nKiel\n\n\n\nRostock\n\n\n\nDresden\n\n\n\nLeipzig\n\n\n\nMünster\n\n\n\nMünchen\n\n\n\nFrankfurt am Main\n\n\n\nDortmund\n\n\n\nStuttgart\n\n\n\nMannheim\n\n\n\nHamburg\n\n\n\nBremen\n\n\n\nBerlin\n\n\n\nZwickau\n\n\n\nKöln\n\n\n\nGöttingen\n\n\n\nMagdeburg\n\n\n\nErfurt\n\n\n\nHannover\n\n\n\nDüsseldorf
URL:https://www.kultur4all.de/veranstaltung/holiday-on-ice/
CATEGORIES:Show
ATTACH;FMTTYPE=image/jpeg:https://www.kultur4all.de/wp-content/uploads/2025/08/Holiday-on-ice-kultur4all.de_.jpg
END:VEVENT
BEGIN:VEVENT
DTSTART;TZID=Europe/Berlin:20251223T000000
DTEND;TZID=Europe/Berlin:20260405T235959
DTSTAMP:20260420T233925
CREATED:20251013T104513Z
LAST-MODIFIED:20260108T064336Z
UID:36756-1766448000-1775433599@www.kultur4all.de
SUMMARY:Ballet Revolucíon
DESCRIPTION:Deutschland-Tour 2025/2026\n\n\n\nFoto: Johan Persson\n\n\n\n\n\nBallet Revolution zeigt\, dass Pop-Musik und klassisches Ballett sehr wohl gut zusammenpassen. Die kubanischen Tänzer und Tänzerinnen mischen weitere Tanzstile\, wie Streetdance\, Contempory und Latin Moves in ihrem Programm \n\n\n\n\nTickets*
URL:https://www.kultur4all.de/veranstaltung/ballet-revolucion/
CATEGORIES:Tanz | Ballett
ATTACH;FMTTYPE=image/jpeg:https://www.kultur4all.de/wp-content/uploads/2025/10/ballet-revolucion-foto-07-credit-johan-persson-fuer-web.jpg
END:VEVENT
BEGIN:VEVENT
DTSTART;TZID=Europe/Berlin:20260103T000000
DTEND;TZID=Europe/Berlin:20261231T235959
DTSTAMP:20260420T233925
CREATED:20260103T135517Z
LAST-MODIFIED:20260104T185542Z
UID:37874-1767398400-1798761599@www.kultur4all.de
SUMMARY:Opernklassiker | Die Zauberflöte von Wolfgang Amadeus Mozart
DESCRIPTION:Märchenhafte Oper rund um die böse Königin der Nacht\, dem fröhlichen Papageno mit seiner Papagena\, dem Prinzen Tamino\, der sich in Tamina verliebt und den Fürsten Sarastro und dessen Oberaufseher Monostatos. \n\n\n\nEs geht um Liebe\, Entführung\, Macht\, Freundschaft und drei Prüfungen\, die bestanden werden müssen. \n\n\n\nLibretto: Emanuel Schikaneder \n\n\n\nTickets\n\n\n\n\nEventim.de*\n\n\n\nAdticket.de*\n\n\n\nReservix.de*\n\n\n\nFestivals | Festspiele\, Tanz | Ballett\n\n\nQuelle: www.kultur4all.de
URL:https://www.kultur4all.de/veranstaltung/opernklassiker-die-zauberfloete-von-wolfgang-amadeus-mozart/
CATEGORIES:Oper | Operette
END:VEVENT
BEGIN:VEVENT
DTSTART;TZID=Europe/Berlin:20260105T000000
DTEND;TZID=Europe/Berlin:20260105T235959
DTSTAMP:20260420T233925
CREATED:20250305T175635Z
LAST-MODIFIED:20251117T143310Z
UID:34181-1767571200-1767657599@www.kultur4all.de
SUMMARY:† Pierre Boulez – Todestag
DESCRIPTION:† 05.01.2026 \n\n\n10. Todestag. \n\n\nNorddeutschland\n\n\n\nWikipedia
URL:https://www.kultur4all.de/veranstaltung/%e2%80%a0-pierre-boulez-todestag/
END:VEVENT
BEGIN:VEVENT
DTSTART;TZID=Europe/Berlin:20260105T000000
DTEND;TZID=Europe/Berlin:20260105T235959
DTSTAMP:20260420T233925
CREATED:20260104T230100Z
LAST-MODIFIED:20260104T132127Z
UID:37902-1767571200-1767657599@www.kultur4all.de
SUMMARY:* Friedrich Dürrenmatt – Geburtstag
DESCRIPTION:* 05.01.1921 \n\n\n\n105. Geburtstag. \n\n\nNorddeutschland\n\n\n\nWikipedia\n\n\n\n\n\nQuelle: www.kultur4all.de
URL:https://www.kultur4all.de/veranstaltung/friedrich-duerrenmatt-geburtstag/
ATTACH;FMTTYPE=image/jpeg:https://www.kultur4all.de/wp-content/uploads/2024/01/Geburtstag-Friedrich-Duerrenmatt.jpg
END:VEVENT
BEGIN:VEVENT
DTSTART;TZID=Europe/Berlin:20260105T000000
DTEND;TZID=Europe/Berlin:20260105T235959
DTSTAMP:20260420T233925
CREATED:20260104T230100Z
LAST-MODIFIED:20260324T090536Z
UID:37904-1767571200-1767657599@www.kultur4all.de
SUMMARY:* Alfred Bendel – Geburtstag
DESCRIPTION:* 05.01.1931 \n\n\n\n95. Geburtstag. \n\n\nNorddeutschland\n\n\n\nWikipedia\n\n\n\n\n\nAlfred BrendelSeine Musik und Bücher \n\n\n\n\nAmazon.de*\n\n\n\n\nQuelle: www.kultur4all.de
URL:https://www.kultur4all.de/veranstaltung/alfred-bendel-geburtstag/
ATTACH;FMTTYPE=image/jpeg:https://www.kultur4all.de/wp-content/uploads/2025/06/Geburtstag-Alfred-Brendel-www.kultur4all.de_.jpg
END:VEVENT
BEGIN:VEVENT
DTSTART;TZID=Europe/Berlin:20260105T000000
DTEND;TZID=Europe/Berlin:20260105T235959
DTSTAMP:20260420T233925
CREATED:20260104T230100Z
LAST-MODIFIED:20260104T131822Z
UID:37900-1767571200-1767657599@www.kultur4all.de
SUMMARY:* Arturo Benedetti Michaelangeli – Geburtstag
DESCRIPTION:* 05.01.1920 \n\n\n\n106. Geburtstag. \n\n\nNorddeutschland\n\n\n\nWikipedia\n\n\n\n\n\nQuelle: www.kultur4all.de
URL:https://www.kultur4all.de/veranstaltung/arturo-benedetti-michaelangeli-geburtstag/
ATTACH;FMTTYPE=image/jpeg:https://www.kultur4all.de/wp-content/uploads/2025/06/Geburtstag-Ingeborg-Bachmann-www.kultur4all.de_.jpg
END:VEVENT
BEGIN:VEVENT
DTSTART;TZID=Europe/Berlin:20260109T000000
DTEND;TZID=Europe/Berlin:20260109T235900
DTSTAMP:20260420T233925
CREATED:20250109T064101Z
LAST-MODIFIED:20251117T142920Z
UID:33478-1767916800-1768003140@www.kultur4all.de
SUMMARY:* Kurt Tucholsky – Geburtstag
DESCRIPTION:*09.01.1890 \n\n\n136. Geburtstag. \n\n\nNorddeutschland\n\n\n\nWikipedia
URL:https://www.kultur4all.de/veranstaltung/kurt-tucholsky-geburtstag/
ATTACH;FMTTYPE=image/jpeg:https://www.kultur4all.de/wp-content/uploads/2025/01/Geburtstag-Kurt-Tucholsky-www.kultur4all.de_.jpg
END:VEVENT
BEGIN:VEVENT
DTSTART;TZID=Europe/Berlin:20260109T000000
DTEND;TZID=Europe/Berlin:20260911T235959
DTSTAMP:20260420T233925
CREATED:20260128T133045Z
LAST-MODIFIED:20260128T133154Z
UID:38184-1767916800-1789171199@www.kultur4all.de
SUMMARY:Breakin' Mozart
DESCRIPTION:Klassik Meets Breakdance\n\n\n\n\n\nBy Lorenzo Duaso\n\n\n\nPasst das zusammen? Opernregisseur Christoph Hagel und die Breakdance Gruppe DDC bringen Headspins\, Windmills\, Menuett und Mozarts Musik auf die Bühne.  \n\n\n\nWer war nochmal Mozart? Ja der: Wolfgang Amadeus Mozart – Komponist\, Wunderkind\, Bruder von Nanerl\, Wiener. Jung gestorben\, aber seine Musik lebt noch heute.  \n\n\n\n\nTickets* \n\n\n\nFestivals | Festspiele\, Tanz | Ballett\n\n\nQuelle: www.kultur4all.de
URL:https://www.kultur4all.de/veranstaltung/breakin-mozart/
CATEGORIES:Show
ATTACH;FMTTYPE=image/jpeg:https://www.kultur4all.de/wp-content/uploads/2026/01/Breakin-Mozart-Pressebild-2-webversion.jpg
END:VEVENT
BEGIN:VEVENT
DTSTART;TZID=Europe/Berlin:20260110T000000
DTEND;TZID=Europe/Berlin:20260110T235959
DTSTAMP:20260420T233925
CREATED:20250130T083941Z
LAST-MODIFIED:20260108T065020Z
UID:33778-1768003200-1768089599@www.kultur4all.de
SUMMARY:* Mischa Maisky – Geburtstag
DESCRIPTION:* 10.01.1948 \n\n\n\n78. Geburtstag. \n\n\nNorddeutschland\n\n\n\nWikipedia\n\n\n\n\nTickets\n\n\n\n\nMischa Maisky bei Eventim.de*
URL:https://www.kultur4all.de/veranstaltung/mischa-maisky-geburtstag/
ATTACH;FMTTYPE=image/jpeg:https://www.kultur4all.de/wp-content/uploads/2025/01/Geburtstag-Mischa-Maisky-www.kultur4all.de_.jpg
END:VEVENT
BEGIN:VEVENT
DTSTART;TZID=Europe/Berlin:20260114T000000
DTEND;TZID=Europe/Berlin:20260114T235959
DTSTAMP:20260420T233925
CREATED:20260113T230100Z
LAST-MODIFIED:20260107T192549Z
UID:37950-1768348800-1768435199@www.kultur4all.de
SUMMARY:* Mariss Jansons – Geburtstag
DESCRIPTION:* 14.01.1949 \n\n\n\n77. Geburtstag. \n\n\nNorddeutschland\n\n\n\nWikipedia\n\n\n\n\n\nQuelle: www.kultur4all.de
URL:https://www.kultur4all.de/veranstaltung/mariss-jansons-geburtstag/
ATTACH;FMTTYPE=image/jpeg:https://www.kultur4all.de/wp-content/uploads/2026/01/Geburtstag-Mariss-Jansons-www.kultur4all.de_.jpg
END:VEVENT
BEGIN:VEVENT
DTSTART;TZID=Europe/Berlin:20260116T000000
DTEND;TZID=Europe/Berlin:20260116T235959
DTSTAMP:20260420T233925
CREATED:20260115T230100Z
LAST-MODIFIED:20260116T064429Z
UID:38095-1768521600-1768607999@www.kultur4all.de
SUMMARY:* Susan Sontag – Geburtstag
DESCRIPTION:* 16.01.1933 \n\n\n\n93. Geburtstag. \n\n\nNorddeutschland\n\n\n\nWikipedia\n\n\n\n\nFestivals | Festspiele\, Tanz | Ballett\n\n\nQuelle: www.kultur4all.de
URL:https://www.kultur4all.de/veranstaltung/susan-sontag-geburtstag/
CATEGORIES:Geburtstag
ATTACH;FMTTYPE=image/jpeg:https://www.kultur4all.de/wp-content/uploads/2024/01/Geburtstag-Susan-Sonntag.jpg
END:VEVENT
BEGIN:VEVENT
DTSTART;TZID=Europe/Berlin:20260118T000000
DTEND;TZID=Europe/Berlin:20260118T235959
DTSTAMP:20260420T233925
CREATED:20260117T230100Z
LAST-MODIFIED:20260113T064326Z
UID:38097-1768694400-1768780799@www.kultur4all.de
SUMMARY:† Carl Zuckmayer – Todestag
DESCRIPTION:† 18.01.1977 \n\n\n49. Todestag. \n\n\nNorddeutschland\n\n\n\nWikipedia\n\n\n\nFestivals | Festspiele\, Tanz | Ballett\n\n\nQuelle: www.kultur4all.de
URL:https://www.kultur4all.de/veranstaltung/%e2%80%a0-carl-zuckmayer-todestag/
CATEGORIES:Todestag
END:VEVENT
BEGIN:VEVENT
DTSTART;TZID=Europe/Berlin:20260119T000000
DTEND;TZID=Europe/Berlin:20260119T235959
DTSTAMP:20260420T233925
CREATED:20260118T230100Z
LAST-MODIFIED:20260113T065548Z
UID:38100-1768780800-1768867199@www.kultur4all.de
SUMMARY:* Katharina Thalbach – Geburtstag
DESCRIPTION:* 19.01.1954 \n\n\n\n72. Geburtstag. \n\n\nNorddeutschland\n\n\n\nWikipedia\n\n\n\n\n\nTickets\n\n\n\n\nEventim.de*\n\n\n\nAdticket.de*\n\n\n\nReservix.de*\n\n\n\nFestivals | Festspiele\, Tanz | Ballett\n\n\nQuelle: www.kultur4all.de
URL:https://www.kultur4all.de/veranstaltung/katharina-thalbach-geburtstag/
CATEGORIES:Geburtstag
ATTACH;FMTTYPE=image/jpeg:https://www.kultur4all.de/wp-content/uploads/2024/01/Geburtstag-Katharina-Thalbach.jpg
END:VEVENT
BEGIN:VEVENT
DTSTART;TZID=Europe/Berlin:20260121T000000
DTEND;TZID=Europe/Berlin:20260121T235959
DTSTAMP:20260420T233925
CREATED:20250116T133913Z
LAST-MODIFIED:20260108T065849Z
UID:30601-1768953600-1769039999@www.kultur4all.de
SUMMARY:* Lars Eidinger – Geburtstag
DESCRIPTION:* 21.01.1976 \n\n\n\n50. Geburtstag. \n\n\nNorddeutschland\n\n\n\nWikipedia\n\n\n\n\n\nTickets \n\n\n\nLars Eidinger auf der Bühne \n\n\n\n\nEventim.de*\n\n\n\n\nQuelle: www.kultur4all.de
URL:https://www.kultur4all.de/veranstaltung/lars-eidinger/
ATTACH;FMTTYPE=image/jpeg:https://www.kultur4all.de/wp-content/uploads/2024/05/Geburtstag-Lars-Eidinger-www.kultur4all.de_.jpg
END:VEVENT
BEGIN:VEVENT
DTSTART;TZID=Europe/Berlin:20260122T000000
DTEND;TZID=Europe/Berlin:20260122T235959
DTSTAMP:20260420T233925
CREATED:20260121T230100Z
LAST-MODIFIED:20260114T070026Z
UID:38122-1769040000-1769126399@www.kultur4all.de
SUMMARY:* Gotthold Ephraim Lessing – Geburtstag
DESCRIPTION:* 22.01.1729 \n\n\n\n297. Geburtstag. \n\n\nNorddeutschland\n\n\n\nWikipedia\n\n\n\n\nFestivals | Festspiele\, Tanz | Ballett\n\n\nQuelle: www.kultur4all.de
URL:https://www.kultur4all.de/veranstaltung/gotthold-ephraim-lessing-geburtstag/
CATEGORIES:Geburtstag
ATTACH;FMTTYPE=image/jpeg:https://www.kultur4all.de/wp-content/uploads/2026/01/Geburtstag-Gotthold-Lessing-www.kultur4all.de_.jpg
END:VEVENT
BEGIN:VEVENT
DTSTART;TZID=Europe/Berlin:20260123T000000
DTEND;TZID=Europe/Berlin:20260123T235959
DTSTAMP:20260420T233925
CREATED:20260122T230100Z
LAST-MODIFIED:20260120T073209Z
UID:38226-1769126400-1769212799@www.kultur4all.de
SUMMARY:† Gudrun Pausewang – Todestag
DESCRIPTION:† 23.01.2020 \n\n\n06. Todestag. \n\n\nNorddeutschland\n\n\n\nWikipedia\n\n\n\nFestivals | Festspiele\, Tanz | Ballett\n\n\nQuelle: www.kultur4all.de
URL:https://www.kultur4all.de/veranstaltung/%e2%80%a0-gudrun-pausewang-todestag/
CATEGORIES:Todestag
END:VEVENT
BEGIN:VEVENT
DTSTART;TZID=Europe/Berlin:20260125T000000
DTEND;TZID=Europe/Berlin:20260125T235959
DTSTAMP:20260420T233925
CREATED:20260124T230100Z
LAST-MODIFIED:20260120T074854Z
UID:38235-1769299200-1769385599@www.kultur4all.de
SUMMARY:* Virginia Woolf – Geburtstag
DESCRIPTION:* 25.01.1882 \n\n\n\n144. Geburtstag. \n\n\nNorddeutschland\n\n\n\nWikipedia\n\n\n\n\nFestivals | Festspiele\, Tanz | Ballett\n\n\nQuelle: www.kultur4all.de
URL:https://www.kultur4all.de/veranstaltung/virginia-woolf-geburtstag/
CATEGORIES:Geburtstag
ATTACH;FMTTYPE=image/jpeg:https://www.kultur4all.de/wp-content/uploads/2026/01/Geburtstag-Virginia-Woolf-www.kultur4all.de_.jpg
END:VEVENT
BEGIN:VEVENT
DTSTART;TZID=Europe/Berlin:20260127T000000
DTEND;TZID=Europe/Berlin:20260127T235959
DTSTAMP:20260420T233925
CREATED:20260126T230100Z
LAST-MODIFIED:20260120T073536Z
UID:38228-1769472000-1769558399@www.kultur4all.de
SUMMARY:† Giuseppe Verdi – Todestag
DESCRIPTION:† 27.01.1901 \n\n\n125. Todestag. \n\n\nNorddeutschland\n\n\n\nWikipedia\n\n\n\nFestivals | Festspiele\, Tanz | Ballett\n\n\nQuelle: www.kultur4all.de
URL:https://www.kultur4all.de/veranstaltung/vorlage-ingeborg-bachmann-todestag/
CATEGORIES:Todestag
END:VEVENT
BEGIN:VEVENT
DTSTART;TZID=Europe/Berlin:20260127T000000
DTEND;TZID=Europe/Berlin:20260127T235959
DTSTAMP:20260420T233925
CREATED:20260126T230100Z
LAST-MODIFIED:20260127T201550Z
UID:38233-1769472000-1769558399@www.kultur4all.de
SUMMARY:* Wolfgang Amadeus Mozart – Geburtstag
DESCRIPTION:* 27.01.1756 \n\n\n\n270. Geburtstag. \n\n\nNorddeutschland\n\n\n\nWikipedia\n\n\n\n\n\n\nOpernklassiker | Die Zauberflöte von Wolfgang Amadeus Mozart\n\n\n\nFestivals | Festspiele\, Tanz | Ballett\n\n\nQuelle: www.kultur4all.de
URL:https://www.kultur4all.de/veranstaltung/wolfgang-amadeus-mozart-geburtstag/
CATEGORIES:Geburtstag
ATTACH;FMTTYPE=image/jpeg:https://www.kultur4all.de/wp-content/uploads/2024/01/Geburtstag-Wolfgang-Amadeus-Mozart.jpg
END:VEVENT
BEGIN:VEVENT
DTSTART;TZID=Europe/Berlin:20260128T000000
DTEND;TZID=Europe/Berlin:20260128T235959
DTSTAMP:20260420T233925
CREATED:20260127T230100Z
LAST-MODIFIED:20260310T081311Z
UID:38231-1769558400-1769644799@www.kultur4all.de
SUMMARY:† Astrid Lindgren – Todestag
DESCRIPTION:† 28.01.2002 \n\n\n24. Todestag. \n\n\nNorddeutschland\n\n\n\nWikipedia\n\n\n\nFestivals | Festspiele\, Tanz | Ballett\n\n\nQuelle: www.kultur4all.de
URL:https://www.kultur4all.de/veranstaltung/vorlage-ingeborg-bachmann-todestag-3/
CATEGORIES:Todestag
END:VEVENT
BEGIN:VEVENT
DTSTART;TZID=Europe/Berlin:20260131T000000
DTEND;TZID=Europe/Berlin:20260131T235959
DTSTAMP:20260420T233925
CREATED:20260130T230500Z
LAST-MODIFIED:20260131T105154Z
UID:37233-1769817600-1769903999@www.kultur4all.de
SUMMARY:* Franz Schubert – Geburtstag
DESCRIPTION:* 31.01.1797 \n\n\n\n229. Geburtstag. \n\n\nNorddeutschland\n\n\n\nWikipedia
URL:https://www.kultur4all.de/veranstaltung/franz-schubert-geburtstag/
ATTACH;FMTTYPE=image/jpeg:https://www.kultur4all.de/wp-content/uploads/2024/01/Geburtstag-Franz-Schubert.jpg
END:VEVENT
END:VCALENDAR