BEGIN:VCALENDAR
VERSION:2.0
PRODID:-//Kultur4all - ECPv6.15.20//NONSGML v1.0//EN
CALSCALE:GREGORIAN
METHOD:PUBLISH
X-ORIGINAL-URL:https://www.kultur4all.de
X-WR-CALDESC:Veranstaltungen für Kultur4all
REFRESH-INTERVAL;VALUE=DURATION:PT1H
X-Robots-Tag:noindex
X-PUBLISHED-TTL:PT1H
BEGIN:VTIMEZONE
TZID:Europe/Berlin
BEGIN:DAYLIGHT
TZOFFSETFROM:+0100
TZOFFSETTO:+0200
TZNAME:CEST
DTSTART:20250330T010000
END:DAYLIGHT
BEGIN:STANDARD
TZOFFSETFROM:+0200
TZOFFSETTO:+0100
TZNAME:CET
DTSTART:20251026T010000
END:STANDARD
BEGIN:DAYLIGHT
TZOFFSETFROM:+0100
TZOFFSETTO:+0200
TZNAME:CEST
DTSTART:20260329T010000
END:DAYLIGHT
BEGIN:STANDARD
TZOFFSETFROM:+0200
TZOFFSETTO:+0100
TZNAME:CET
DTSTART:20261025T010000
END:STANDARD
BEGIN:DAYLIGHT
TZOFFSETFROM:+0100
TZOFFSETTO:+0200
TZNAME:CEST
DTSTART:20270328T010000
END:DAYLIGHT
BEGIN:STANDARD
TZOFFSETFROM:+0200
TZOFFSETTO:+0100
TZNAME:CET
DTSTART:20271031T010000
END:STANDARD
END:VTIMEZONE
BEGIN:VEVENT
DTSTART;TZID=Europe/Berlin:20260418T200000
DTEND;TZID=Europe/Berlin:20260418T220000
DTSTAMP:20260420T162834
CREATED:20260108T090627Z
LAST-MODIFIED:20260408T123701Z
UID:37986-1776542400-1776549600@www.kultur4all.de
SUMMARY:Marilies Guschlbauer (Violoncello) - Julia Rinderle (Klavier)
DESCRIPTION:Programm\n\n\n\n„Les Grandes Dames“  \n\n\n\nClara Schumann: Drei Romanzen\, op. 22: 3. Leidenschaftlich schnellLera Auerbach: Postlude\, op. 47 für Violoncello und KlavierFanny Hensel: Capriccio\, H. 247Amy Beach: Dreaming\, op. 15/3Flora Geißelbrecht: Mein Schatten kann über Wasser gehen (Auftragswerk der Styriarte 2024)—Clara Schumann: Drei Romanzen\, op. 22: 1. Andante moltoRita Strohl: Sonate dramatique „Titus et Bérénice“  für Violoncello und Klavier \n\n\n\nBesetzung\n\n\n\nMarilies Guschlbauer (Violoncello)  \n\n\n\nJulia Rinderle (Klavier) \n\n\n\nTickets\n\n\n\nwww.ticket-regional.de/tum-ahrensburg \n\n\n\n\n\n\n\n\nEduard-Söring-Saal | Stormarnschule\n\n\n\nGeburtstag\n\n\nQuelle: www.kultur4all.de
URL:https://www.kultur4all.de/veranstaltung/marilies-guschlbauer-violoncello-julia-rinderle-klavier/
LOCATION:Eduard-Söring-Saal in der Stormarnschule Ahrensburg\, Waldstraße 14\, Ahrensburg\, 22926
CATEGORIES:Ahrensburg – Veranstaltungen,Konzerte
ATTACH;FMTTYPE=image/jpeg:https://www.kultur4all.de/wp-content/uploads/2025/01/Eduard-Soering-Saal-Ahrensburg-www.kultur4all.de_-scaled.jpg
END:VEVENT
BEGIN:VEVENT
DTSTART;TZID=Europe/Berlin:20260415T193000
DTEND;TZID=Europe/Berlin:20260415T213000
DTSTAMP:20260420T162834
CREATED:20260331T080714Z
LAST-MODIFIED:20260331T081337Z
UID:38978-1776281400-1776288600@www.kultur4all.de
SUMMARY:Lieblingskrimi-Abend
DESCRIPTION:Es werden verschiedene Krimis vorgestellt.
URL:https://www.kultur4all.de/veranstaltung/lieblingskrimi-abend/
LOCATION:Buchhandlung Heymann\, Rondeel 6\, Ahrensburg\, 22926
CATEGORIES:Ahrensburg – Veranstaltungen,Lesungen & mehr
ATTACH;FMTTYPE=image/jpeg:https://www.kultur4all.de/wp-content/uploads/2025/12/Buchhandlung-Heymann-Ahrensburg-Webversion.jpg
END:VEVENT
BEGIN:VEVENT
DTSTART;TZID=Europe/Berlin:20260406T000000
DTEND;TZID=Europe/Berlin:20260406T235959
DTSTAMP:20260420T162834
CREATED:20260405T220100Z
LAST-MODIFIED:20260329T120339Z
UID:38949-1775433600-1775519999@www.kultur4all.de
SUMMARY:† Igor Strawinsky – Todestag
DESCRIPTION:† 06.04.1971 \n\n\n55. Todestag. \n\n\nDirigent\n\n\n\nWikipedia\n\n\n\nGeburtstag\n\n\nQuelle: www.kultur4all.de
URL:https://www.kultur4all.de/veranstaltung/%e2%80%a0-igor-strawinsky-todestag/
CATEGORIES:Todestag
END:VEVENT
BEGIN:VEVENT
DTSTART;TZID=Europe/Berlin:20260403T000000
DTEND;TZID=Europe/Berlin:20260403T235959
DTSTAMP:20260420T162834
CREATED:20260402T220100Z
LAST-MODIFIED:20260329T115621Z
UID:38945-1775174400-1775260799@www.kultur4all.de
SUMMARY:† Johannes Brahms – Todestag
DESCRIPTION:† 03.04.1897 \n\n\n129. Todestag. \n\n\nDirigent\n\n\n\nWikipedia\n\n\n\nGeburtstag\n\n\nQuelle: www.kultur4all.de
URL:https://www.kultur4all.de/veranstaltung/%e2%80%a0-johannes-brahms-todestag/
CATEGORIES:Todestag
END:VEVENT
BEGIN:VEVENT
DTSTART;TZID=Europe/Berlin:20260403T000000
DTEND;TZID=Europe/Berlin:20260403T235959
DTSTAMP:20260420T162834
CREATED:20260402T220100Z
LAST-MODIFIED:20260329T115925Z
UID:38947-1775174400-1775260799@www.kultur4all.de
SUMMARY:† Kurt Weill – Todestag
DESCRIPTION:† 03.04.1950 \n\n\n76. Todestag. \n\n\nDirigent\n\n\n\nWikipedia\n\n\n\nGeburtstag\n\n\nQuelle: www.kultur4all.de
URL:https://www.kultur4all.de/veranstaltung/%e2%80%a0-kurt-weill-todestag/
CATEGORIES:Todestag
END:VEVENT
BEGIN:VEVENT
DTSTART;TZID=Europe/Berlin:20260402T000000
DTEND;TZID=Europe/Berlin:20260402T235959
DTSTAMP:20260420T162834
CREATED:20260401T220100Z
LAST-MODIFIED:20260329T115044Z
UID:32696-1775088000-1775174399@www.kultur4all.de
SUMMARY:Internationaler Kinderbuchtag
DESCRIPTION:Wikipedia\n\n\n\nKinderbücher
URL:https://www.kultur4all.de/veranstaltung/internationaler-kinderbuchtag/
END:VEVENT
BEGIN:VEVENT
DTSTART;TZID=Europe/Berlin:20260401T193000
DTEND;TZID=Europe/Berlin:20260401T213000
DTSTAMP:20260420T162834
CREATED:20260331T080434Z
LAST-MODIFIED:20260331T081253Z
UID:38976-1775071800-1775079000@www.kultur4all.de
SUMMARY:Ein Abend mit Claudia Schaumann
DESCRIPTION:Dieser Sommer gehört mir\n\n\nGeburtstag
URL:https://www.kultur4all.de/veranstaltung/ein-abend-mit-claudia-schaumann/
LOCATION:Heymann Ahrensburg\, Hamburger Straße 6-8\, Ahrensburg\, 22926
CATEGORIES:Ahrensburg – Veranstaltungen,Lesungen & mehr
ATTACH;FMTTYPE=image/jpeg:https://www.kultur4all.de/wp-content/uploads/2025/12/Buchhandlung-Heymann-Ahrensburg-Webversion.jpg
END:VEVENT
BEGIN:VEVENT
DTSTART;TZID=Europe/Berlin:20260401T000000
DTEND;TZID=Europe/Berlin:20260401T235959
DTSTAMP:20260420T162834
CREATED:20260331T220100Z
LAST-MODIFIED:20260329T113543Z
UID:38942-1775001600-1775087999@www.kultur4all.de
SUMMARY:* Sergei Wassiljewitsch Rachmaninow – Geburtstag
DESCRIPTION:* 01.04.1873 \n\n\n\n153. Geburtstag. \n\n\nDirigent\n\n\n\nWikipedia\n\n\n\n\nGeburtstag\n\n\nQuelle: www.kultur4all.de
URL:https://www.kultur4all.de/veranstaltung/sergei-wassiljewitsch-rachmaninow-geburtstag/
CATEGORIES:Geburtstag
ATTACH;FMTTYPE=image/jpeg:https://www.kultur4all.de/wp-content/uploads/2023/04/Geburtstag-Rachmaninow.jpg
END:VEVENT
BEGIN:VEVENT
DTSTART;TZID=Europe/Berlin:20260331T193000
DTEND;TZID=Europe/Berlin:20260331T213000
DTSTAMP:20260420T162834
CREATED:20260327T170353Z
LAST-MODIFIED:20260327T172714Z
UID:38931-1774985400-1774992600@www.kultur4all.de
SUMMARY:Lesung aus Ahrensblut  – Ein Hamburg-Ahrensburg-Krimi
DESCRIPTION:Die Geschichten aus Ahrensblut spielen in Ahrensburg. \n\n\n\n\nBuch kaufen*\n\n\n\n\n\nKultavida – Kulturbühne
URL:https://www.kultur4all.de/veranstaltung/lesung-aus-ahrensblut-ein-hamburg-ahrensburg-krimi/
LOCATION:Kultavida\, Große Straße 32\, Ahrensburg\, 22926
CATEGORIES:Ahrensburg – Veranstaltungen,Lesungen & mehr
END:VEVENT
BEGIN:VEVENT
DTSTART;TZID=Europe/Berlin:20260331T000000
DTEND;TZID=Europe/Berlin:20260331T235959
DTSTAMP:20260420T162834
CREATED:20251014T090807Z
LAST-MODIFIED:20251117T135520Z
UID:33138-1774915200-1775001599@www.kultur4all.de
SUMMARY:* Johann Sebastian Bach – Geburtstag
DESCRIPTION:* 31.03.1685 \n\n\n\n341. Geburtstag. \n\n\nDirigent\n\n\n\nWikipedia
URL:https://www.kultur4all.de/veranstaltung/johann-sebastian-bach-geburtstag/
ATTACH;FMTTYPE=image/jpeg:https://www.kultur4all.de/wp-content/uploads/2024/12/Geburtstag-Johann-Sebastian-Bach.jpg
END:VEVENT
BEGIN:VEVENT
DTSTART;TZID=Europe/Berlin:20260330T000000
DTEND;TZID=Europe/Berlin:20260330T235959
DTSTAMP:20260420T162834
CREATED:20250428T112920Z
LAST-MODIFIED:20251117T135642Z
UID:34978-1774828800-1774915199@www.kultur4all.de
SUMMARY:* Sabine Mayer – Geburtstag
DESCRIPTION:* 30.03.1959 \n\n\n67. Geburtstag. \n\n\nDirigent\n\n\n\nWikipedia
URL:https://www.kultur4all.de/veranstaltung/sabine-mayer-geburtstag/
ATTACH;FMTTYPE=image/jpeg:https://www.kultur4all.de/wp-content/uploads/2025/04/Geburtstag-Sabine-Meyer-www.kultur4all.de_.jpg
END:VEVENT
BEGIN:VEVENT
DTSTART;TZID=Europe/Berlin:20260329T000000
DTEND;TZID=Europe/Berlin:20260329T235959
DTSTAMP:20260420T162834
CREATED:20260328T230100Z
LAST-MODIFIED:20260319T080702Z
UID:38792-1774742400-1774828799@www.kultur4all.de
SUMMARY:Welt-Klavier-Tag
DESCRIPTION:Aktionstag seit 11 Jahren. \n\n\nDirigent\n\n\nDer Welt-Klavier-Tag wird am 88. Tag im Jahr – also dem 29. März (in Schaltjahren am 28. März) gefeiert. Die 88 Tage stehen für die 88 Tasten des Instruments.
URL:https://www.kultur4all.de/veranstaltung/welt-klavier-tag/
END:VEVENT
BEGIN:VEVENT
DTSTART;TZID=Europe/Berlin:20260328T000000
DTEND;TZID=Europe/Berlin:20260406T235959
DTSTAMP:20260420T162834
CREATED:20260113T143733Z
LAST-MODIFIED:20260113T143836Z
UID:38115-1774656000-1775519999@www.kultur4all.de
SUMMARY:Festtage Staatsoper Unter den Linden
DESCRIPTION:Programm\n\n\n\nDer Rosenkavalier von Richard Strauss \n\n\n\n\nTickets*\n\n\n\n\nUn ballo in maschera von Giuseppe Verdi \n\n\n\nLiederabend Matthias Goerne \n\n\n\n\nTickets*\n\n\n\n\nKonzert zum Karfreitag \n\n\n\n\nStaatsoper Unter den Linden Berlin
URL:https://www.kultur4all.de/veranstaltung/festtage-staatsoper-unter-den-linden/
CATEGORIES:Festivals | Festspiele
ATTACH;FMTTYPE=image/jpeg:https://www.kultur4all.de/wp-content/uploads/2017/09/Staatsoper-Unter-den-Linden-Berlin-kultur4all.de_.jpg
END:VEVENT
BEGIN:VEVENT
DTSTART;TZID=Europe/Berlin:20260328T000000
DTEND;TZID=Europe/Berlin:20260404T235959
DTSTAMP:20260420T162834
CREATED:20260202T154933Z
LAST-MODIFIED:20260202T154943Z
UID:38494-1774656000-1775347199@www.kultur4all.de
SUMMARY:Ballettfestwoche
DESCRIPTION:Bayerisches Staatsballett\n\n\n\n\n\nProgramm \n\n\n\nTermine / Programm\n\n\n\n28.3.26 Samstag\n\n\n\n19.30 Uhr | Nationaltheater | PREMIERE COMMON GROUND \n\n\n\nAlexander Ekman\, Johan Inger\, Jiří Kylián \n\n\n\n29.3.26 Sonntag\n\n\n\n19.30 Uhr | Nationaltheater | COMMON GROUND \n\n\n\nAlexander Ekman\, Johan Inger\, Jiří Kylián \n\n\n\n30.3.26 Montag \n\n\n\n19.30 Uhr | Nationaltheater | ONEGIN \n\n\n\nJohn Cranko \n\n\n\n31.3.26 Dienstag\n\n\n\n19.30 Uhr | Nationaltheater | LA SYLPHIDE \n\n\n\nPierre Lacotte nach Filippo Taglioni \n\n\n\n1.4.26 Mittwoch\n\n\n\n19.30 Uhr | Nationaltheater | WAVES AND CIRCLES \n\n\n\nWilliam Forsythe\, Emma Portner\, Maurice Béjart \n\n\n\n2.4.26 Donnerstag\n\n\n\n19.30 Uhr | Nationaltheater | ILLUSIONEN – WIE SCHWANENSEE \n\n\n\nJohn Neumeier \n\n\n\n4.4.26 Samstag\n\n\n\n19.30 Uhr | Nationaltheater | WAVES AND CIRCLES \n\n\n\nWilliam Forsythe\, Emma Portner\, Maurice Béjart \n\n\n\n\n\n\nBayerische Staatsoper
URL:https://www.kultur4all.de/veranstaltung/ballettfestwoche/
ATTACH;FMTTYPE=image/jpeg:https://www.kultur4all.de/wp-content/uploads/2026/02/Bayerische-Staatsoper-Webversion.jpg
END:VEVENT
BEGIN:VEVENT
DTSTART;TZID=Europe/Berlin:20260328T000000
DTEND;TZID=Europe/Berlin:20260328T235959
DTSTAMP:20260420T162834
CREATED:20260327T230100Z
LAST-MODIFIED:20260324T084542Z
UID:38901-1774656000-1774742399@www.kultur4all.de
SUMMARY:† Virginia Woolf – Todestag
DESCRIPTION:† 28.03.1941 \n\n\n85. Todestag. \n\n\nDirigent\n\n\n\nWikipedia\n\n\n\nGeburtstag\n\n\nQuelle: www.kultur4all.de
URL:https://www.kultur4all.de/veranstaltung/%e2%80%a0-virginia-woolf-todestag/
CATEGORIES:Todestag
END:VEVENT
BEGIN:VEVENT
DTSTART;TZID=Europe/Berlin:20260328T000000
DTEND;TZID=Europe/Berlin:20260328T235959
DTSTAMP:20260420T162834
CREATED:20260327T230100Z
LAST-MODIFIED:20260324T084810Z
UID:38903-1774656000-1774742399@www.kultur4all.de
SUMMARY:† Sergei Wassiljewitsch Rachmaninow – Todestag
DESCRIPTION:† 28.03.1943 \n\n\n83. Todestag. \n\n\nDirigent\n\n\n\nWikipedia\n\n\n\nGeburtstag\n\n\nQuelle: www.kultur4all.de
URL:https://www.kultur4all.de/veranstaltung/%e2%80%a0-sergei-wassiljewitsch-rachmaninow-todestag/
CATEGORIES:Todestag
END:VEVENT
BEGIN:VEVENT
DTSTART;TZID=Europe/Berlin:20260327T000000
DTEND;TZID=Europe/Berlin:20260327T235959
DTSTAMP:20260420T162834
CREATED:20260326T230100Z
LAST-MODIFIED:20260324T084142Z
UID:38899-1774569600-1774655999@www.kultur4all.de
SUMMARY:* Mstislaw Leopoldowitsch Rostropowitsch – Geburtstag
DESCRIPTION:* 27.03.1927 \n\n\n\n99. Geburtstag. \n\n\nDirigent\n\n\n\nWikipedia\n\n\n\n\nGeburtstag\n\n\nQuelle: www.kultur4all.de
URL:https://www.kultur4all.de/veranstaltung/mstislaw-leopoldowitsch-rostropowitsch-geburtstag/
CATEGORIES:Geburtstag
ATTACH;FMTTYPE=image/jpeg:https://www.kultur4all.de/wp-content/uploads/2023/03/Geburtstag-Mstislaw-Rostropowitsch.jpg
END:VEVENT
BEGIN:VEVENT
DTSTART;TZID=Europe/Berlin:20260327T000000
DTEND;TZID=Europe/Berlin:20260327T235959
DTSTAMP:20260420T162834
CREATED:20260326T230100Z
LAST-MODIFIED:20260324T083633Z
UID:38897-1774569600-1774655999@www.kultur4all.de
SUMMARY:* Heinrich Mann – Geburtstag
DESCRIPTION:* 27.03.1871 \n\n\n\n155. Geburtstag. \n\n\nDirigent\n\n\n\nWikipedia\n\n\n\n\nGeburtstag\n\n\nQuelle: www.kultur4all.de
URL:https://www.kultur4all.de/veranstaltung/heinrich-mann-geburtstag/
CATEGORIES:Geburtstag
ATTACH;FMTTYPE=image/jpeg:https://www.kultur4all.de/wp-content/uploads/2023/03/Geburtstag-heinrich-Mann.jpg
END:VEVENT
BEGIN:VEVENT
DTSTART;TZID=Europe/Berlin:20260327T000000
DTEND;TZID=Europe/Berlin:20260327T235959
DTSTAMP:20260420T162834
CREATED:20250327T165438Z
LAST-MODIFIED:20250513T130307Z
UID:34605-1774569600-1774655999@www.kultur4all.de
SUMMARY:Welttheatertag
DESCRIPTION:65. Aktionstag.
URL:https://www.kultur4all.de/veranstaltung/welttheatertag/
END:VEVENT
BEGIN:VEVENT
DTSTART;TZID=Europe/Berlin:20260326T000000
DTEND;TZID=Europe/Berlin:20260326T235959
DTSTAMP:20260420T162834
CREATED:20260325T230200Z
LAST-MODIFIED:20260324T083210Z
UID:38895-1774483200-1774569599@www.kultur4all.de
SUMMARY:† Ludwig van Beethoven – Todestag
DESCRIPTION:† 26.03.1827 \n\n\n199. Todestag. \n\n\nDirigent\n\n\n\nWikipedia\n\n\n\nGeburtstag\n\n\nQuelle: www.kultur4all.de
URL:https://www.kultur4all.de/veranstaltung/%e2%80%a0-ludwig-van-beethoven-todestag/
CATEGORIES:Todestag
END:VEVENT
BEGIN:VEVENT
DTSTART;TZID=Europe/Berlin:20260326T000000
DTEND;TZID=Europe/Berlin:20260326T235959
DTSTAMP:20260420T162834
CREATED:20250305T174959Z
LAST-MODIFIED:20251117T135754Z
UID:34178-1774483200-1774569599@www.kultur4all.de
SUMMARY:* Pierre Boulez – Geburtstag
DESCRIPTION:* 26.03.1925 \n\n\n101. Geburtstag. \n\n\nDirigent\n\n\n\nWikipedia
URL:https://www.kultur4all.de/veranstaltung/pierre-boulez-geburtstag/
ATTACH;FMTTYPE=image/jpeg:https://www.kultur4all.de/wp-content/uploads/2025/03/Geburtstag-Pierre-Boulez-www.kultur4all.de_.jpg
END:VEVENT
BEGIN:VEVENT
DTSTART;TZID=Europe/Berlin:20260322T000000
DTEND;TZID=Europe/Berlin:20260322T235959
DTSTAMP:20260420T162834
CREATED:20250113T090847Z
LAST-MODIFIED:20251117T135913Z
UID:33524-1774137600-1774223999@www.kultur4all.de
SUMMARY:* Bruno Ganz – Geburtstag
DESCRIPTION:* 22.03.1941 \n\n\n85. Geburtstag. \n\n\nDirigent\n\n\n\nWikipedia
URL:https://www.kultur4all.de/veranstaltung/bruno-ganz-geburtstag/
ATTACH;FMTTYPE=image/jpeg:https://www.kultur4all.de/wp-content/uploads/2023/03/Geburtstag-Bruno-Ganz.jpg
END:VEVENT
BEGIN:VEVENT
DTSTART;TZID=Europe/Berlin:20260321T200000
DTEND;TZID=Europe/Berlin:20260321T220000
DTSTAMP:20260420T162834
CREATED:20260310T075412Z
LAST-MODIFIED:20260310T075414Z
UID:38709-1774123200-1774130400@www.kultur4all.de
SUMMARY:Kosmos Bach
DESCRIPTION:Programm\n\n\n\nSonate E-Dur BWV 1035 für Flöte und Basso continuo – Johann Sebastian Bach \n\n\n\nPräludium in g-Moll\, BuxWV 163 für Cembalo solo – Dietrich Buxtehude \n\n\n\nSonate e-Moll BR-WFB B 17 für Flöte und Basso continuo – Wilhelm Friedemann Bach \n\n\n\nSonate A-Dur für Flöte und Basso continuo – Johann Friedrich Agricola \n\n\n\nSonate d-Moll für Flöte\, Violoncello und Cembalo – Johann Adolf Hasse \n\n\n\nSonate g-Moll Wq. 88\, H. 510 für Viola da Gamba und Cembalo – Carl Philipp Emanuel Bach \n\n\n\nSonate e-Moll BWV 1034 für Flöte und Basso continuo – Johann Sebastian Bach \n\n\n\nBesetzung\n\n\n\nImme-Jeanne Klett – Flöte(Professorin für Flöte an der Hochschule für Musik und Theater Hamburg\, Solo-Flötistin der Hamburger Camerata und Künstlerische Leiterin des Festivals für Kammermusik in Hamburg OBLIGAT)  \n\n\n\nMartin Klett – Klavier(seit April 2025 Professor für Kammermusik mit Schwerpunkt Klavier-Kammermusik an der Hochschule für Musik FRANZ LISZT Weimar)  \n\n\n\nCharles-Antoine Archambault – Cello (Solocellist bei dem Schleswig-Holstein Musik Festival\, dem Heidelberger-Frühling\, dem Prager Frühling\, dem Festival der Nationen\, und bei „Winners & Masters“. Nach Stationen als Solocellist beim WDR Köln\, den Hamburger Philharmonikern und dem Ulster Orchestra Belfast ist er seit 2022 Solocellist des Orquesta Sinfónica de Barcelona.) \n\n\n\nTickets\n\n\n\nBuchhandlung Stojan \n\n\n\nOnline auf Ticket-Regional
URL:https://www.kultur4all.de/veranstaltung/kosmos-bach/
LOCATION:Eduard-Söring-Saal in der Stormarnschule Ahrensburg\, Waldstraße 14\, Ahrensburg\, 22926
CATEGORIES:Konzerte
ATTACH;FMTTYPE=image/jpeg:https://www.kultur4all.de/wp-content/uploads/2025/01/Eduard-Soering-Saal-Ahrensburg-www.kultur4all.de_-scaled.jpg
END:VEVENT
BEGIN:VEVENT
DTSTART;TZID=Europe/Berlin:20260321T200000
DTEND;TZID=Europe/Berlin:20260321T220000
DTSTAMP:20260420T162834
CREATED:20260108T084908Z
LAST-MODIFIED:20260108T084910Z
UID:37984-1774123200-1774130400@www.kultur4all.de
SUMMARY:Kosmos Bach – Musik um Johann Sebastian Bach
DESCRIPTION:Programm\n\n\n\nWerke für Flöte\, Violoncello und Cembalovon Johann Sebastian Bach\, Carl Philipp Emanuel Bach\, Wilhelm Friedemann Bach\, Johann Adolf Hasse\, Dietrich Buxtehude u.a. \n\n\n\nBesetzung\n\n\n\nImme-Jeanne Klett\, FlöteMartin Klett\, CembaloCharles-Antoine Archambault\, Violoncello \n\n\n\nTickets\n\n\n\nwww.ticket-regional.de/tum-ahrensburg \n\n\n\n\n\n\n\n\nAlfred-Rust-Saal Ahrensburg\n\n\n\n\nQuelle: www.kultur4all.de
URL:https://www.kultur4all.de/veranstaltung/kosmos-bach-musik-um-johann-sebastian-bach/
LOCATION:Alfred-Rust-Saal\, Wulfsdorfer Weg 71\, Ahrensburg\, 22926
CATEGORIES:Ahrensburg – Veranstaltungen,Konzerte
END:VEVENT
BEGIN:VEVENT
DTSTART;TZID=Europe/Berlin:20260321T000000
DTEND;TZID=Europe/Berlin:20260324T235959
DTSTAMP:20260420T162834
CREATED:20250919T095650Z
LAST-MODIFIED:20250919T103342Z
UID:36390-1774051200-1774396799@www.kultur4all.de
SUMMARY:Raub der Sabinerinnen
DESCRIPTION:Originalfassung von Paul und Franz Schönten. \n\n\n\nGastspiel der Niederdeutschen Bühne Kiel. \n\n\n\nTermine\n\n\n\n20. März 2026 | 19:30 \n\n\n\n21. März 2026 | 15:00
URL:https://www.kultur4all.de/veranstaltung/raub-der-sabinerinnen/
LOCATION:Alfred-Rust-Saal\, Wulfsdorfer Weg 71\, Ahrensburg\, 22926
CATEGORIES:Ahrensburg – Veranstaltungen,Op platt
END:VEVENT
BEGIN:VEVENT
DTSTART;TZID=Europe/Berlin:20260320T193000
DTEND;TZID=Europe/Berlin:20260320T213000
DTSTAMP:20260420T162834
CREATED:20260313T065905Z
LAST-MODIFIED:20260313T065912Z
UID:38734-1774035000-1774042200@www.kultur4all.de
SUMMARY:Jugendsinfonieorchester Ahrensburg und japanische K-Wind-Orchestra
DESCRIPTION:Programm\n\n\n\nWolfgang Amadeus Mozart – Klarinettenkonzert\, A-Dur KV 622\, 1. Satz \n\n\n\nund eine weitere bunte Mischung \n\n\n\nBesetzung\n\n\n\nJugendsinfonieorchester Ahrensburg \n\n\n\nK-Wind Orchestra \n\n\n\nSönke Grohmann – Dirigent \n\n\n\nEintritt frei
URL:https://www.kultur4all.de/veranstaltung/jugendsinfonieorchester-ahrensburg-und-japanische-k-wind-orchestra/
LOCATION:St. Johanneskirche\, Rudolf-Kinau-Str. 19\, Ahrensburg\, 22926
CATEGORIES:Ahrensburg – Veranstaltungen,Konzerte
ATTACH;FMTTYPE=image/jpeg:https://www.kultur4all.de/wp-content/uploads/2025/04/St.-Johanneskirche-Ahrensburg-www.kultur4all.de_.jpg
END:VEVENT
BEGIN:VEVENT
DTSTART;TZID=Europe/Berlin:20260319T000000
DTEND;TZID=Europe/Berlin:20260322T235959
DTSTAMP:20260420T162834
CREATED:20251030T142350Z
LAST-MODIFIED:20260322T205539Z
UID:29275-1773878400-1774223999@www.kultur4all.de
SUMMARY:Leipziger Buchmesse
DESCRIPTION:Wo Geschichten uns verstehen\n\n\n\n\n\nDie Leipziger Buchmesse ist eins der großen Branchen-Events und findet im Verbund mit der Manga Comic Con und Leipzig liest statt. \n\n\n\n\nWebsite\n\n\n\nTickets*\n\n\n\n\n\nLivestream
URL:https://www.kultur4all.de/veranstaltung/leipziger-buchmesse/
CATEGORIES:Lesungen & mehr
END:VEVENT
BEGIN:VEVENT
DTSTART;TZID=Europe/Berlin:20260318T190000
DTEND;TZID=Europe/Berlin:20260318T210000
DTSTAMP:20260420T162834
CREATED:20260216T172319Z
LAST-MODIFIED:20260216T172433Z
UID:38557-1773860400-1773867600@www.kultur4all.de
SUMMARY:Hamburger Kammerballett – KUNSTKAMMER 2.0
DESCRIPTION:Tickets*\n\n\n\nMehr Infos\n\n\n\n\nDas Hamburger Kammerballett wurde 2022 von Edvin Revazov und Isabelle Rohlfs gegründet. Die sechs Tänzer und Tänzerinnen zeigen mit ihrem Programm KUNSTKAMMER 2.0 Ausschnitte bisheriger Arbeiten\, in denen sie klassische und zeitgenössische Bewegungssprache verbinden.
URL:https://www.kultur4all.de/veranstaltung/hamburger-kammerballett-kunstkammer-2-0/
LOCATION:Alfred-Rust-Saal\, Wulfsdorfer Weg 71\, Ahrensburg\, 22926
CATEGORIES:Ahrensburg – Veranstaltungen,Tanz | Ballett
ATTACH;FMTTYPE=image/jpeg:https://www.kultur4all.de/wp-content/uploads/2026/02/HKB_2025©ChristinaGotz-44-webversion-1.jpg
END:VEVENT
BEGIN:VEVENT
DTSTART;TZID=Europe/Berlin:20260317T000000
DTEND;TZID=Europe/Berlin:20260317T235900
DTSTAMP:20260420T162834
CREATED:20241007T084842Z
LAST-MODIFIED:20251117T140043Z
UID:31828-1773705600-1773791940@www.kultur4all.de
SUMMARY:* Geburtstag Siegfried Lenz
DESCRIPTION:* 17.03.1926 \n\n\n100. Geburtstag. \n\n\nDirigent\n\n\n\nWikipedia
URL:https://www.kultur4all.de/veranstaltung/geburtstag-siegfried-lenz/
ATTACH;FMTTYPE=image/jpeg:https://www.kultur4all.de/wp-content/uploads/2024/10/Geburtstag-Siegfried-Lenz-www.kultur4all.de_.jpg
END:VEVENT
BEGIN:VEVENT
DTSTART;TZID=Europe/Berlin:20260315T190000
DTEND;TZID=Europe/Berlin:20260315T210000
DTSTAMP:20260420T162834
CREATED:20260313T160636Z
LAST-MODIFIED:20260313T160733Z
UID:38736-1773601200-1773608400@www.kultur4all.de
SUMMARY:María de Buenos Aires
DESCRIPTION:Oper von Astor Piazzolla aus der Deutschen Oper am Rhein\n\n\n\n\n\n\nStream mit Live-Chat\n\n\n\n\nDer Live-Chat wird von der Dramaturgie der Deutschen Oper am Rhein begleitet und moderiert. \n\n\n\nDer Stream ist bis 15.09.2026\, 12 Uhr verfügbar. \n\n\n\n\nDeutsche Oper am Rhein
URL:https://www.kultur4all.de/veranstaltung/maria-de-buenos-aires/
CATEGORIES:Livestreams | Streams,Oper | Operette
ATTACH;FMTTYPE=image/jpeg:https://www.kultur4all.de/wp-content/uploads/2021/12/livestream-icon-rot-2.jpg
END:VEVENT
END:VCALENDAR