BEGIN:VCALENDAR
VERSION:2.0
PRODID:-//Kultur4all - ECPv6.15.20//NONSGML v1.0//EN
CALSCALE:GREGORIAN
METHOD:PUBLISH
X-ORIGINAL-URL:https://www.kultur4all.de
X-WR-CALDESC:Veranstaltungen für Kultur4all
REFRESH-INTERVAL;VALUE=DURATION:PT1H
X-Robots-Tag:noindex
X-PUBLISHED-TTL:PT1H
BEGIN:VTIMEZONE
TZID:Europe/Berlin
BEGIN:DAYLIGHT
TZOFFSETFROM:+0100
TZOFFSETTO:+0200
TZNAME:CEST
DTSTART:20240331T010000
END:DAYLIGHT
BEGIN:STANDARD
TZOFFSETFROM:+0200
TZOFFSETTO:+0100
TZNAME:CET
DTSTART:20241027T010000
END:STANDARD
BEGIN:DAYLIGHT
TZOFFSETFROM:+0100
TZOFFSETTO:+0200
TZNAME:CEST
DTSTART:20250330T010000
END:DAYLIGHT
BEGIN:STANDARD
TZOFFSETFROM:+0200
TZOFFSETTO:+0100
TZNAME:CET
DTSTART:20251026T010000
END:STANDARD
BEGIN:DAYLIGHT
TZOFFSETFROM:+0100
TZOFFSETTO:+0200
TZNAME:CEST
DTSTART:20260329T010000
END:DAYLIGHT
BEGIN:STANDARD
TZOFFSETFROM:+0200
TZOFFSETTO:+0100
TZNAME:CET
DTSTART:20261025T010000
END:STANDARD
BEGIN:DAYLIGHT
TZOFFSETFROM:+0100
TZOFFSETTO:+0200
TZNAME:CEST
DTSTART:20270328T010000
END:DAYLIGHT
BEGIN:STANDARD
TZOFFSETFROM:+0200
TZOFFSETTO:+0100
TZNAME:CET
DTSTART:20271031T010000
END:STANDARD
END:VTIMEZONE
BEGIN:VEVENT
DTSTART;TZID=Europe/Berlin:20251024T000000
DTEND;TZID=Europe/Berlin:20260802T235959
DTSTAMP:20260421T044637
CREATED:20250926T112934Z
LAST-MODIFIED:20260108T063911Z
UID:36519-1761264000-1785715199@www.kultur4all.de
SUMMARY:Cirque du Soleil ALIZÉ - Eine Reise in das Unsichtbare
DESCRIPTION:Tickets*\n\n\n\n\nDie Weltpremiere von Cirque du Soleil ALIZÉ – Eine Reise in das Unsichtbare findet am 20. November 2025 in Berlin statt. Im Theater am Potsdamer Platz bleibt die Zirkus-Show dann bis August 2026 zu Gast. Das Konzept aus Zirkus\, Akrobatik\, Live-Musik und phantasievollen Kostümen wird auch in ALIZÉ umgesetzt.
URL:https://www.kultur4all.de/veranstaltung/cirque-du-soleil-alize-eine-reise-in-das-unsichtbare/
CATEGORIES:Show
ATTACH;FMTTYPE=image/jpeg:https://www.kultur4all.de/wp-content/uploads/2025/09/Cirque-du-soleil-Alize.jpg
END:VEVENT
BEGIN:VEVENT
DTSTART;TZID=Europe/Berlin:20251112T000000
DTEND;TZID=Europe/Berlin:20260830T235959
DTSTAMP:20260421T044637
CREATED:20251008T130604Z
LAST-MODIFIED:20260108T064029Z
UID:36664-1762905600-1788134399@www.kultur4all.de
SUMMARY:Tarzan – Das Musical
DESCRIPTION:Wiederaufnahme in Hamburg im Herbst 2025\n\n\n\n\n\nAlexander Klaws begeisterte erneut in der Rolle des Tarzans bei der Premiere in Hamburg. \nFoto: Johan Persson\n\n\n\nPremiere am Donnerstag 20. November 2025 \n\n\n\nTickets\n\n\n\n\nEventim.de*\n\n\n\n\nOrt\n\n\n\n\nNeue Flora\n\n\n\n\n+ Musik +Tarzan-Deutsche Originalversion des MusicalsMusik und Texte: Phil CollinsAmazon.de*\n\n\n\n\nTarzan kommt\, Hercules geht
URL:https://www.kultur4all.de/veranstaltung/tarzan-das-musical/
CATEGORIES:Musicals
ATTACH;FMTTYPE=image/jpeg:https://www.kultur4all.de/wp-content/uploads/2025/10/JPG-72-dpi-RGB-Tar_Klaws_2025-1.jpg
END:VEVENT
BEGIN:VEVENT
DTSTART;TZID=Europe/Berlin:20260103T000000
DTEND;TZID=Europe/Berlin:20261231T235959
DTSTAMP:20260421T044638
CREATED:20260103T135517Z
LAST-MODIFIED:20260104T185542Z
UID:37874-1767398400-1798761599@www.kultur4all.de
SUMMARY:Opernklassiker | Die Zauberflöte von Wolfgang Amadeus Mozart
DESCRIPTION:Märchenhafte Oper rund um die böse Königin der Nacht\, dem fröhlichen Papageno mit seiner Papagena\, dem Prinzen Tamino\, der sich in Tamina verliebt und den Fürsten Sarastro und dessen Oberaufseher Monostatos. \n\n\n\nEs geht um Liebe\, Entführung\, Macht\, Freundschaft und drei Prüfungen\, die bestanden werden müssen. \n\n\n\nLibretto: Emanuel Schikaneder \n\n\n\nTickets\n\n\n\n\nEventim.de*\n\n\n\nAdticket.de*\n\n\n\nReservix.de*\n\n\n\nFestivals | Festspiele\, Tanz | Ballett\n\n\nQuelle: www.kultur4all.de
URL:https://www.kultur4all.de/veranstaltung/opernklassiker-die-zauberfloete-von-wolfgang-amadeus-mozart/
CATEGORIES:Oper | Operette
END:VEVENT
BEGIN:VEVENT
DTSTART;TZID=Europe/Berlin:20260109T000000
DTEND;TZID=Europe/Berlin:20260911T235959
DTSTAMP:20260421T044638
CREATED:20260128T133045Z
LAST-MODIFIED:20260128T133154Z
UID:38184-1767916800-1789171199@www.kultur4all.de
SUMMARY:Breakin' Mozart
DESCRIPTION:Klassik Meets Breakdance\n\n\n\n\n\nBy Lorenzo Duaso\n\n\n\nPasst das zusammen? Opernregisseur Christoph Hagel und die Breakdance Gruppe DDC bringen Headspins\, Windmills\, Menuett und Mozarts Musik auf die Bühne.  \n\n\n\nWer war nochmal Mozart? Ja der: Wolfgang Amadeus Mozart – Komponist\, Wunderkind\, Bruder von Nanerl\, Wiener. Jung gestorben\, aber seine Musik lebt noch heute.  \n\n\n\n\nTickets* \n\n\n\nFestivals | Festspiele\, Tanz | Ballett\n\n\nQuelle: www.kultur4all.de
URL:https://www.kultur4all.de/veranstaltung/breakin-mozart/
CATEGORIES:Show
ATTACH;FMTTYPE=image/jpeg:https://www.kultur4all.de/wp-content/uploads/2026/01/Breakin-Mozart-Pressebild-2-webversion.jpg
END:VEVENT
BEGIN:VEVENT
DTSTART;TZID=Europe/Berlin:20260303T000000
DTEND;TZID=Europe/Berlin:20260531T235959
DTSTAMP:20260421T044638
CREATED:20251114T142248Z
LAST-MODIFIED:20251114T142248Z
UID:37190-1772496000-1780271999@www.kultur4all.de
SUMMARY:BELLO! by Fabbrica C
DESCRIPTION:Das Zirkuskollektiv Fabbrica C aus Italien zeigt im Chamäleon Berlin sein Stück BELLO! aus fließender Akrobatik und Schauspiel. \n\n\n\n\nTickets\n\n\n\n\n\nChamäleon Berlin
URL:https://www.kultur4all.de/veranstaltung/bello-by-fabbrica-c/
ATTACH;FMTTYPE=image/jpeg:https://www.kultur4all.de/wp-content/uploads/2025/11/Bello-by-Fabbcrica-C-kultur4all.de_.jpg
END:VEVENT
BEGIN:VEVENT
DTSTART;TZID=Europe/Berlin:20260322T000000
DTEND;TZID=Europe/Berlin:20261220T235959
DTSTAMP:20260421T044638
CREATED:20260324T101013Z
LAST-MODIFIED:20260324T101556Z
UID:38911-1774137600-1797811199@www.kultur4all.de
SUMMARY:Zurück in die Zukunft – Das Musical
DESCRIPTION:Operettenhaus Hamburg\n\n\n\n\n\nDas Musical Zurück in die Zukunft basiert auf dem gleichnamigen Film aus den achtziger Jahren. Es feierte am 22. März 2026 seine Premiere im Operettenhaus in Hamburg. \n\n\n\nEs ist eine Produktion von Stage Entertainment. \n\n\n\n\nTickets*\n\n\n\n\n\nOperettenhaus Hamburg
URL:https://www.kultur4all.de/veranstaltung/zurueck-in-die-zukunft-das-musical/
CATEGORIES:Musicals
END:VEVENT
BEGIN:VEVENT
DTSTART;TZID=Europe/Berlin:20260412T000000
DTEND;TZID=Europe/Berlin:20260710T235959
DTSTAMP:20260421T044638
CREATED:20260216T064648Z
LAST-MODIFIED:20260216T064734Z
UID:38554-1775952000-1783727999@www.kultur4all.de
SUMMARY:Bergedorfer Musiktage
DESCRIPTION:Der Verein Bergedorfer Musiktage e.V. organisiert die Bergedorfer Musiktage seit 2002 in Spielstätten in Bergedorf bei Hamburg und in den Vierlanden.  \n\n\n\n\nTickets*\n\n\n\n\nProgramm\n\n\n\n\nProgramm hier
URL:https://www.kultur4all.de/veranstaltung/bergedorfer-musiktage/
CATEGORIES:Festivals | Festspiele
END:VEVENT
BEGIN:VEVENT
DTSTART;TZID=Europe/Berlin:20260523T000000
DTEND;TZID=Europe/Berlin:20260621T235959
DTSTAMP:20260421T044638
CREATED:20260326T072519Z
LAST-MODIFIED:20260408T122844Z
UID:38919-1779494400-1782086399@www.kultur4all.de
SUMMARY:Hamburger Theater Festival
DESCRIPTION:Festivals | Festspiele\, Tanz | Ballett\n\n\n\n\nDas Hamburger Theater Festival ist ein Projekt der Stiftung Hamburger Theater Festival. Sie verfolgt das Ziel\, das Theater in Hamburg zu unterstützen.  \n\n\n\nProgramm\n\n\n\nThalia Theater\n\n\n\nDer Schneesturm \n\n\n\nDie heilige Johanna der Schlachthöfe \n\n\n\nDe Profundis \n\n\n\n\nThalia Theater Hamburg\n\n\n\n\nDeutsches Schauspielhaus\n\n\n\nRichard III.  \n\n\n\nDer Fall McNeal \n\n\n\nRomeo und Julia \n\n\n\n\nDeutsches Schauspielhaus\n\n\n\n\nSt. Pauli Theater\n\n\n\nDer Bau \n\n\n\n\nSt. Pauli Theater Hamburg\n\n\n\n\nHelmut Schmidt Auditorium\, Bucerius Law School\n\n\n\nDie Ermittlung
URL:https://www.kultur4all.de/veranstaltung/hamburger-theater-festival/
CATEGORIES:Festivals | Festspiele,Theater
ATTACH;FMTTYPE=image/jpeg:https://www.kultur4all.de/wp-content/uploads/2026/03/Hamburger-Theater-Festival-Kultur4all.de_.jpg
END:VEVENT
BEGIN:VEVENT
DTSTART;TZID=Europe/Berlin:20260526T000000
DTEND;TZID=Europe/Berlin:20260607T235959
DTSTAMP:20260421T044638
CREATED:20260220T143633Z
LAST-MODIFIED:20260220T143642Z
UID:38570-1779753600-1780876799@www.kultur4all.de
SUMMARY:Potsdamer Tanztage
DESCRIPTION:Das Festival für zeitgenössischen Tanz bietet Workshops und ein vielfältiges Festivalprogramm. \n\n\n\n\nTickets*\n\n\n\nWebsite\n\n\n\n\nWorkshopprogramm\n\n\n\nDas Workshopprogramm findest du hier:  \n\n\n\n\nWorkshopprogramm\n\n\n\n\nFestivalprogramm\n\n\n\nDas Festivalprogramm erscheint in Kürze.
URL:https://www.kultur4all.de/veranstaltung/potsdamer-tanztage/
CATEGORIES:Festivals | Festspiele,Tanz | Ballett
END:VEVENT
END:VCALENDAR